BEGIN:VCALENDAR
VERSION:2.0
PRODID:-//Espace 19 - ECPv6.8.3//NONSGML v1.0//EN
CALSCALE:GREGORIAN
METHOD:PUBLISH
X-ORIGINAL-URL:https://espace19.org
X-WR-CALDESC:Évènements pour Espace 19
REFRESH-INTERVAL;VALUE=DURATION:PT1H
X-Robots-Tag:noindex
X-PUBLISHED-TTL:PT1H
BEGIN:VTIMEZONE
TZID:Europe/Paris
BEGIN:DAYLIGHT
TZOFFSETFROM:+0100
TZOFFSETTO:+0200
TZNAME:CEST
DTSTART:20210328T010000
END:DAYLIGHT
BEGIN:STANDARD
TZOFFSETFROM:+0200
TZOFFSETTO:+0100
TZNAME:CET
DTSTART:20211031T010000
END:STANDARD
END:VTIMEZONE
BEGIN:VEVENT
DTSTART;TZID=Europe/Paris:20211028T143000
DTEND;TZID=Europe/Paris:20211028T170000
DTSTAMP:20260425T232510
CREATED:20211026T152120Z
LAST-MODIFIED:20211026T152237Z
UID:34087-1635431400-1635440400@espace19.org
SUMMARY:Atelier manuel - citrouille d'halloween
DESCRIPTION:Venez découvrir en famille comment sculpter une citrouille d’halloween. \nL’événement est gratuit et ouvert à tou.te.s ! Pour toutes questions\, contactez-nous au 01 53 26 89 00.
URL:https://espace19.org/event/atelier-manuel-citrouille-dhalloween/
LOCATION:Espace 19 Riquet\, 53 rue Riquet\, Paris\, 75019\, France
ATTACH;FMTTYPE=image/jpeg:https://espace19.org/wp-content/uploads/2021/10/pexels-olia-danilevich-5490799-scaled.jpg
END:VEVENT
END:VCALENDAR