BEGIN:VCALENDAR
VERSION:2.0
PRODID:-//Espace 19 - ECPv6.8.3//NONSGML v1.0//EN
CALSCALE:GREGORIAN
METHOD:PUBLISH
X-WR-CALNAME:Espace 19
X-ORIGINAL-URL:https://espace19.org
X-WR-CALDESC:Évènements pour Espace 19
REFRESH-INTERVAL;VALUE=DURATION:PT1H
X-Robots-Tag:noindex
X-PUBLISHED-TTL:PT1H
BEGIN:VTIMEZONE
TZID:Europe/Paris
BEGIN:DAYLIGHT
TZOFFSETFROM:+0100
TZOFFSETTO:+0200
TZNAME:CEST
DTSTART:20210328T010000
END:DAYLIGHT
BEGIN:STANDARD
TZOFFSETFROM:+0200
TZOFFSETTO:+0100
TZNAME:CET
DTSTART:20211031T010000
END:STANDARD
END:VTIMEZONE
BEGIN:VEVENT
DTSTART;TZID=Europe/Paris:20211029T183000
DTEND;TZID=Europe/Paris:20211029T213000
DTSTAMP:20260425T232212
CREATED:20211026T151251Z
LAST-MODIFIED:20211026T151251Z
UID:34082-1635532200-1635543000@espace19.org
SUMMARY:Soirée Halloween spéciale Zombies
DESCRIPTION:Enfilez votre plus beau costume et venez profiter d’une soirée conviviale ! \nAu programme : \n📸 Photobooth spécial zombies \n🧟‍♀️ Atelier maquillage zombie \n🎥 Projection de films à partir de 19h :\nPour les ados : Frankenweenie de Tim Burton\nPour les enfants : Wallace & Gromit: le mystère du lapin-garou \n🍲 Buffet convivial partagé : merci de ramener un plat salé à partager. \nL’événement est gratuit et ouvert à tou.te.s ! \nPass sanitaire obligatoire. \nPour toutes questions : contactez-nous au 01 53 26 89 00.
URL:https://espace19.org/event/soiree-halloween-speciale-zombies/
LOCATION:Espace 19 Riquet\, 53 rue Riquet\, Paris\, 75019\, France
ATTACH;FMTTYPE=image/png:https://espace19.org/wp-content/uploads/2021/10/Soiree-halloween-Riquet-oct-2021.png
END:VEVENT
END:VCALENDAR