BEGIN:VCALENDAR
VERSION:2.0
PRODID:-//Espace 19 - ECPv6.8.3//NONSGML v1.0//EN
CALSCALE:GREGORIAN
METHOD:PUBLISH
X-ORIGINAL-URL:https://espace19.org
X-WR-CALDESC:Évènements pour Espace 19
REFRESH-INTERVAL;VALUE=DURATION:PT1H
X-Robots-Tag:noindex
X-PUBLISHED-TTL:PT1H
BEGIN:VTIMEZONE
TZID:Europe/Paris
BEGIN:DAYLIGHT
TZOFFSETFROM:+0100
TZOFFSETTO:+0200
TZNAME:CEST
DTSTART:20210328T010000
END:DAYLIGHT
BEGIN:STANDARD
TZOFFSETFROM:+0200
TZOFFSETTO:+0100
TZNAME:CET
DTSTART:20211031T010000
END:STANDARD
END:VTIMEZONE
BEGIN:VEVENT
DTSTART;TZID=Europe/Paris:20211120T143000
DTEND;TZID=Europe/Paris:20211120T143000
DTSTAMP:20260425T220709
CREATED:20211117T110151Z
LAST-MODIFIED:20211117T110151Z
UID:34650-1637418600-1637418600@espace19.org
SUMMARY:Atelier Eco-Ludo : création de doudous en matériaux recyclés
DESCRIPTION:Espace Ludo vous invite à son atelier Eco-Ludo du samedi 20 novembre ! \nAu programme : création de doudous en matériaux recyclés avec Annie. \nUne chouette matinée en famille en perspective ! \nPour vous inscrire ou pour toutes questions : contactez l’équipe de la Ludo au 01 40 32 48 65 ou via espaceludo@espace19.org
URL:https://espace19.org/event/atelier-eco-ludo-creation-de-doudous-en-materiaux-recycles/
LOCATION:Espace Ludo\, Halle Secrétan - 21 rue Bouret\, Paris\, 75019\, France
ATTACH;FMTTYPE=image/png:https://espace19.org/wp-content/uploads/2021/11/Atelier-creation-de-doudous-en-materiaux-recycles-1.png
END:VEVENT
END:VCALENDAR