BEGIN:VCALENDAR
VERSION:2.0
PRODID:-//Espace 19 - ECPv6.8.3//NONSGML v1.0//EN
CALSCALE:GREGORIAN
METHOD:PUBLISH
X-ORIGINAL-URL:https://espace19.org
X-WR-CALDESC:Évènements pour Espace 19
REFRESH-INTERVAL;VALUE=DURATION:PT1H
X-Robots-Tag:noindex
X-PUBLISHED-TTL:PT1H
BEGIN:VTIMEZONE
TZID:Europe/Paris
BEGIN:DAYLIGHT
TZOFFSETFROM:+0100
TZOFFSETTO:+0200
TZNAME:CEST
DTSTART:20210328T010000
END:DAYLIGHT
BEGIN:STANDARD
TZOFFSETFROM:+0200
TZOFFSETTO:+0100
TZNAME:CET
DTSTART:20211031T010000
END:STANDARD
END:VTIMEZONE
BEGIN:VEVENT
DTSTART;TZID=Europe/Paris:20211126T100000
DTEND;TZID=Europe/Paris:20211126T124500
DTSTAMP:20260425T220128
CREATED:20211117T105405Z
LAST-MODIFIED:20211117T163245Z
UID:34640-1637920800-1637930700@espace19.org
SUMMARY:Atelier Self-Defense
DESCRIPTION:Dans le cadre de la journée de lutte contre les violences faites aux femmes\, Espace 19 Santé & Médiation et Libres Terres des Femmes vous donne rendez-vous le vendredi 26 novembre pour un atelier self-defense ! \nL’événement est gratuit et ouvert à tou.te.s. \nOn vous attend au Centre Paris Anim’ Curial – 16 rue Colette Magny à 9h30. \nPour toutes questions : contactez-nous au 09 81 64 84 58. \nLe pass sanitaire est obligatoire pour participer à l’événement. \n  \nÉvénement organisé en partenariat avec : Ladies System Defense\, Le Centre Paris Anim Curial et la Ligue de l’Enseignement. \nEt avec le soutien de : la Mairie du 19ème\, la Ville de Paris\, et le CIPDR.
URL:https://espace19.org/event/atelier-self-defense/
LOCATION:Centre Paris Anim Curial\, 16 rue Colette Magny\, Paris\, 75019\, France
ATTACH;FMTTYPE=image/jpeg:https://espace19.org/wp-content/uploads/2021/11/pexels-burst-374053-scaled.jpg
END:VEVENT
END:VCALENDAR