BEGIN:VCALENDAR
VERSION:2.0
PRODID:-//Espace 19 - ECPv6.8.3//NONSGML v1.0//EN
CALSCALE:GREGORIAN
METHOD:PUBLISH
X-ORIGINAL-URL:https://espace19.org
X-WR-CALDESC:Évènements pour Espace 19
REFRESH-INTERVAL;VALUE=DURATION:PT1H
X-Robots-Tag:noindex
X-PUBLISHED-TTL:PT1H
BEGIN:VTIMEZONE
TZID:Europe/Paris
BEGIN:DAYLIGHT
TZOFFSETFROM:+0100
TZOFFSETTO:+0200
TZNAME:CEST
DTSTART:20210328T010000
END:DAYLIGHT
BEGIN:STANDARD
TZOFFSETFROM:+0200
TZOFFSETTO:+0100
TZNAME:CET
DTSTART:20211031T010000
END:STANDARD
END:VTIMEZONE
BEGIN:VEVENT
DTSTART;TZID=Europe/Paris:20211221T150000
DTEND;TZID=Europe/Paris:20211221T160000
DTSTAMP:20260425T204738
CREATED:20211213T114133Z
LAST-MODIFIED:20211213T114133Z
UID:35357-1640098800-1640102400@espace19.org
SUMMARY:Atelier scientifique : "Un monde d'illusions"
DESCRIPTION:Rendez-vous à 13h45 à Espace 19 Ourcq (20 rue Léon Giraud) pour une sortie au Musée Interactif Exploradôme de Vitry-sur-Seine ! \nAu programme : un atelier sur les illusions d’optique et ce sera aussi l’occasion de découvrir comment manipuler des objets qui permettent d’en créer. \nL’événement est ouvert aux parents et aux enfants (de 6 à 9 ans). \nPour vous inscrire\, contactez l’équipe au 01 42 38 00 05. \n🚆 : prévoir des tickets de transport (zone 2) \n✅ : pass sanitaire obligatoire pour les + de 12 ans
URL:https://espace19.org/event/atelier-scientifique-un-monde-dillusions/
ATTACH;FMTTYPE=image/png:https://espace19.org/wp-content/uploads/2021/12/template-1350343_1280-1.png
END:VEVENT
END:VCALENDAR