BEGIN:VCALENDAR
VERSION:2.0
PRODID:-//Espace 19 - ECPv6.8.3//NONSGML v1.0//EN
CALSCALE:GREGORIAN
METHOD:PUBLISH
X-WR-CALNAME:Espace 19
X-ORIGINAL-URL:https://espace19.org
X-WR-CALDESC:Évènements pour Espace 19
REFRESH-INTERVAL;VALUE=DURATION:PT1H
X-Robots-Tag:noindex
X-PUBLISHED-TTL:PT1H
BEGIN:VTIMEZONE
TZID:Europe/Paris
BEGIN:DAYLIGHT
TZOFFSETFROM:+0100
TZOFFSETTO:+0200
TZNAME:CEST
DTSTART:20210328T010000
END:DAYLIGHT
BEGIN:STANDARD
TZOFFSETFROM:+0200
TZOFFSETTO:+0100
TZNAME:CET
DTSTART:20211031T010000
END:STANDARD
END:VTIMEZONE
BEGIN:VEVENT
DTSTART;TZID=Europe/Paris:20211229T134500
DTEND;TZID=Europe/Paris:20211229T134500
DTSTAMP:20260425T192720
CREATED:20211216T144955Z
LAST-MODIFIED:20211216T144955Z
UID:35461-1640785500-1640785500@espace19.org
SUMMARY:Atelier "Mail Art"
DESCRIPTION:Venez découvrir l’art du Mail Art avec un atelier au Musée de La Poste ! \nLe Mail Art : c’est une pratique artistique qui détourne les codes de la correspondance et qui permet d’explorer l’écriture de manière ludique et créative. \nAvec cet atelier\, vous aller découvrir les usages et les formes de la lettre\, du courrier normé à l’envoi décalé. \nAlors ça vous dit ? Inscrivez-vous au 01 42 38 00 05. \nEt rendez-vous le jour j à 13h45 à Espace 19 Ourcq (20 rue Léon Giraud Paris 19ème). \n : prévoir des tickets de transport (métro) \n : pass sanitaire obligatoire pour les + de 12 ans
URL:https://espace19.org/event/atelier-mail-art/
ATTACH;FMTTYPE=image/jpeg:https://espace19.org/wp-content/uploads/2021/12/mail-art.jpg
END:VEVENT
END:VCALENDAR