BEGIN:VCALENDAR
VERSION:2.0
PRODID:-//Espace 19 - ECPv6.8.3//NONSGML v1.0//EN
CALSCALE:GREGORIAN
METHOD:PUBLISH
X-WR-CALNAME:Espace 19
X-ORIGINAL-URL:https://espace19.org
X-WR-CALDESC:Évènements pour Espace 19
REFRESH-INTERVAL;VALUE=DURATION:PT1H
X-Robots-Tag:noindex
X-PUBLISHED-TTL:PT1H
BEGIN:VTIMEZONE
TZID:Europe/Paris
BEGIN:DAYLIGHT
TZOFFSETFROM:+0100
TZOFFSETTO:+0200
TZNAME:CEST
DTSTART:20210328T010000
END:DAYLIGHT
BEGIN:STANDARD
TZOFFSETFROM:+0200
TZOFFSETTO:+0100
TZNAME:CET
DTSTART:20211031T010000
END:STANDARD
END:VTIMEZONE
BEGIN:VEVENT
DTSTART;TZID=Europe/Paris:20211230T140000
DTEND;TZID=Europe/Paris:20211230T140000
DTSTAMP:20260425T192717
CREATED:20211216T150043Z
LAST-MODIFIED:20211216T150043Z
UID:35467-1640872800-1640872800@espace19.org
SUMMARY:Sortie expo : "Le peuple de demain" au Centre Pompidou
DESCRIPTION:Le Centre Pompidou invite l’artiste Jean-Charles de Castelbajac a concevoir une exposition-atelier pour permettre aux enfants de découvrir et expérimenter son univers artistique. \nL’atelier est ouvert aux enfants de plus de 4 ans et à tous ceux qui ont gardé une âme d’enfant. \nPour vous inscrire\, contactez-nous au 01 42 38 00 05. Et rendez-vous le jour j à 14h à Espace 19 Ourcq (20 rue Léon Giraud Paris 19ème) pour se mettre en route pour le Centre Pompidou. \n  \n : prévoir des tickets de transport (métro) \n : pass sanitaire obligatoire pour les + de 12 ans
URL:https://espace19.org/event/sortie-expo-le-peuple-de-demain-au-centre-pompidou/
ATTACH;FMTTYPE=image/jpeg:https://espace19.org/wp-content/uploads/2021/12/paris-674964_1920.jpg
END:VEVENT
END:VCALENDAR