BEGIN:VCALENDAR
VERSION:2.0
PRODID:-//Espace 19 - ECPv6.8.3//NONSGML v1.0//EN
CALSCALE:GREGORIAN
METHOD:PUBLISH
X-ORIGINAL-URL:https://espace19.org
X-WR-CALDESC:Évènements pour Espace 19
REFRESH-INTERVAL;VALUE=DURATION:PT1H
X-Robots-Tag:noindex
X-PUBLISHED-TTL:PT1H
BEGIN:VTIMEZONE
TZID:Europe/Paris
BEGIN:DAYLIGHT
TZOFFSETFROM:+0100
TZOFFSETTO:+0200
TZNAME:CEST
DTSTART:20220327T010000
END:DAYLIGHT
BEGIN:STANDARD
TZOFFSETFROM:+0200
TZOFFSETTO:+0100
TZNAME:CET
DTSTART:20221030T010000
END:STANDARD
END:VTIMEZONE
BEGIN:VEVENT
DTSTART;TZID=Europe/Paris:20220429T143000
DTEND;TZID=Europe/Paris:20220429T163000
DTSTAMP:20260425T134023
CREATED:20220425T131031Z
LAST-MODIFIED:20220427T100801Z
UID:38365-1651242600-1651249800@espace19.org
SUMMARY:[Séance 2] Atelier collage artistique
DESCRIPTION:Venez découvrir le collage artistique avec Najet. Pour celles et ceux qui aiment les formes et les couleurs et qui sont curieux de voir ce que l’on peut créer avec du papier de soie\, c’est un atelier à ne pas rater ! \nInscrivez-vous auprès de Maéva et Marion en contactant Espace 19 Riquet (01 53 26 89 00).
URL:https://espace19.org/event/atelier-collage-artistique-2/
LOCATION:Espace 19 Riquet\, 53 rue Riquet\, Paris\, 75019\, France
ATTACH;FMTTYPE=image/jpeg:https://espace19.org/wp-content/uploads/2022/04/Atelier-Najet-dessin-scaled.jpg
END:VEVENT
BEGIN:VEVENT
DTSTART;TZID=Europe/Paris:20220429T163000
DTEND;TZID=Europe/Paris:20220429T180000
DTSTAMP:20260425T134023
CREATED:20220405T144914Z
LAST-MODIFIED:20220405T144914Z
UID:37683-1651249800-1651255200@espace19.org
SUMMARY:Atelier Théâtre
DESCRIPTION:Espace 19 Riquet vous invite à un atelier de théâtre d’1h30 pour vous initier au jeu ! \nL’inscription est obligatoire auprès de Marion au 01 53 26 89 00. \nUn bon moment créatif et convivial en perspective !
URL:https://espace19.org/event/atelier-theatre/
LOCATION:Espace 19 Riquet\, 53 rue Riquet\, Paris\, 75019\, France
ATTACH;FMTTYPE=image/jpeg:https://espace19.org/wp-content/uploads/2022/04/2insta-Clo-Afis-1-scaled.jpg
END:VEVENT
BEGIN:VEVENT
DTSTART;TZID=Europe/Paris:20220429T181500
DTEND;TZID=Europe/Paris:20220429T190000
DTSTAMP:20260425T134023
CREATED:20220405T150442Z
LAST-MODIFIED:20220405T150442Z
UID:37688-1651256100-1651258800@espace19.org
SUMMARY:Projection de courts métrages
DESCRIPTION:Venez découvrir à Espace 19 Riquet 3 courts métrages réalisés avec des apprenants des cours de français du centre\, en partenariat avec l’association FLA et Hip&Hop. \nUn très beau projet qui met en scène et célèbre nos différences culturelles ! \nOn vous attend nombreux pour une soirée de projection conviviale. \n 
URL:https://espace19.org/event/projection-de-courts-metrages/
LOCATION:Espace 19 Riquet\, 53 rue Riquet\, Paris\, 75019\, France
CATEGORIES:Tous publics
ATTACH;FMTTYPE=image/png:https://espace19.org/wp-content/uploads/2022/04/tournage-1.png
END:VEVENT
END:VCALENDAR