BEGIN:VCALENDAR
VERSION:2.0
PRODID:-//Espace 19 - ECPv6.8.3//NONSGML v1.0//EN
CALSCALE:GREGORIAN
METHOD:PUBLISH
X-WR-CALNAME:Espace 19
X-ORIGINAL-URL:https://espace19.org
X-WR-CALDESC:Évènements pour Espace 19
REFRESH-INTERVAL;VALUE=DURATION:PT1H
X-Robots-Tag:noindex
X-PUBLISHED-TTL:PT1H
BEGIN:VTIMEZONE
TZID:Europe/Paris
BEGIN:DAYLIGHT
TZOFFSETFROM:+0100
TZOFFSETTO:+0200
TZNAME:CEST
DTSTART:20220327T010000
END:DAYLIGHT
BEGIN:STANDARD
TZOFFSETFROM:+0200
TZOFFSETTO:+0100
TZNAME:CET
DTSTART:20221030T010000
END:STANDARD
END:VTIMEZONE
BEGIN:VEVENT
DTSTART;TZID=Europe/Paris:20221124T090000
DTEND;TZID=Europe/Paris:20221124T113000
DTSTAMP:20260425T042852
CREATED:20221114T114710Z
LAST-MODIFIED:20221118T092926Z
UID:42389-1669280400-1669289400@espace19.org
SUMMARY:Atelier Faber & Mazlish – communiquer avec les tout-petits
DESCRIPTION:Envie d’un quotidien plus apaisé avec vos tout-petits ? \nVenez découvrir des pistes d’action et partager votre expérience avec d’autres parents. \nL’atelier sera animé par Genoveva Desplas\, formée à la communication positive et bienveillante. \nPour vous inscrire\, contactez-nous au 09 81 64 84 58. \nUne garde d’enfants sera prévue le jour de l’atelier.
URL:https://espace19.org/event/atelier-faber-mazlish-communiquer-avec-les-tout-petits-2/
LOCATION:Espace 19 Ourcq\, 19 rue des Ardennes\, Paris\, 75019\, France
CATEGORIES:parents
ATTACH;FMTTYPE=image/png:https://espace19.org/wp-content/uploads/2022/10/test-agenda-photo-2-1-1.png
END:VEVENT
END:VCALENDAR