BEGIN:VCALENDAR
VERSION:2.0
PRODID:-//Espace 19 - ECPv6.8.3//NONSGML v1.0//EN
CALSCALE:GREGORIAN
METHOD:PUBLISH
X-ORIGINAL-URL:https://espace19.org
X-WR-CALDESC:Évènements pour Espace 19
REFRESH-INTERVAL;VALUE=DURATION:PT1H
X-Robots-Tag:noindex
X-PUBLISHED-TTL:PT1H
BEGIN:VTIMEZONE
TZID:Europe/Paris
BEGIN:DAYLIGHT
TZOFFSETFROM:+0100
TZOFFSETTO:+0200
TZNAME:CEST
DTSTART:20220327T010000
END:DAYLIGHT
BEGIN:STANDARD
TZOFFSETFROM:+0200
TZOFFSETTO:+0100
TZNAME:CET
DTSTART:20221030T010000
END:STANDARD
END:VTIMEZONE
BEGIN:VEVENT
DTSTART;TZID=Europe/Paris:20221203T090000
DTEND;TZID=Europe/Paris:20221203T123000
DTSTAMP:20260425T025740
CREATED:20221114T114942Z
LAST-MODIFIED:20221114T114942Z
UID:42391-1670058000-1670070600@espace19.org
SUMMARY:Atelier Faber & Mazlish – communiquer avec les tout-petits
DESCRIPTION:Envie d’un quotidien plus apaisé avec vos tout-petits ? \nVenez découvrir des pistes d’action et partager votre expérience avec d’autres parents. \nL’atelier sera animé par Genoveva Desplas\, formée à la communication positive et bienveillante. \nPour vous inscrire\, contactez-nous au 09 81 64 84 58. \nUne garde d’enfants sera prévue le jour de l’atelier.
URL:https://espace19.org/event/atelier-faber-mazlish-communiquer-avec-les-tout-petits-3/
LOCATION:Espace Ludo\, Halle Secrétan - 21 rue Bouret\, Paris\, 75019\, France
CATEGORIES:parents
ATTACH;FMTTYPE=image/png:https://espace19.org/wp-content/uploads/2022/10/test-agenda-photo-2-1-1.png
END:VEVENT
BEGIN:VEVENT
DTSTART;TZID=Europe/Paris:20221203T093000
DTEND;TZID=Europe/Paris:20221203T120000
DTSTAMP:20260425T025740
CREATED:20221114T092408Z
LAST-MODIFIED:20221114T092408Z
UID:42373-1670059800-1670068800@espace19.org
SUMMARY:Forum des métiers
DESCRIPTION:Venez partager votre expérience et votre parcours professionnel avec des collégiens du 19ème ! \nLe samedi 03 décembre Espace 19 Ourcq co-organise un Forum des Métiers au Collège Edgar Varèse de 09h30 à 12h. \nC’est un temps d’échanges précieux pour les élèves et l’opportunité pour eux de discuter en direct avec des professionnels\, de découvrir des métiers et d’avoir des retours d’expérience. \nTous les secteurs d’activité et les métiers sont bienvenus ! \nPour participer ou pour toutes questions\, contactez-nous au 01 42 38 00 05. \nOn vous attend pour une belle matinée de rencontres et de partage !
URL:https://espace19.org/event/forum-des-metiers/
LOCATION:Collège Edgar Varèse\, 16 rue Adolphe Mille\, Paris\, 75019\, France
CATEGORIES:Tous publics
ATTACH;FMTTYPE=image/png:https://espace19.org/wp-content/uploads/2022/11/Visuel-Forum-des-Metiers-27.nov-1.png
END:VEVENT
END:VCALENDAR