BEGIN:VCALENDAR
VERSION:2.0
PRODID:-//Espace 19 - ECPv6.8.3//NONSGML v1.0//EN
CALSCALE:GREGORIAN
METHOD:PUBLISH
X-WR-CALNAME:Espace 19
X-ORIGINAL-URL:https://espace19.org
X-WR-CALDESC:Évènements pour Espace 19
REFRESH-INTERVAL;VALUE=DURATION:PT1H
X-Robots-Tag:noindex
X-PUBLISHED-TTL:PT1H
BEGIN:VTIMEZONE
TZID:Europe/Paris
BEGIN:DAYLIGHT
TZOFFSETFROM:+0100
TZOFFSETTO:+0200
TZNAME:CEST
DTSTART:20230326T010000
END:DAYLIGHT
BEGIN:STANDARD
TZOFFSETFROM:+0200
TZOFFSETTO:+0100
TZNAME:CET
DTSTART:20231029T010000
END:STANDARD
END:VTIMEZONE
BEGIN:VEVENT
DTSTART;TZID=Europe/Paris:20230324T093000
DTEND;TZID=Europe/Paris:20230324T110000
DTSTAMP:20260424T224049
CREATED:20230320T095644Z
LAST-MODIFIED:20230320T095644Z
UID:45057-1679650200-1679655600@espace19.org
SUMMARY:Petit-déjeuner des parents à Espace 19 Tanger !
DESCRIPTION:« Dépêche toi\, tu vas être en retard ! »\, « Ca fait trop longtemps que tu es sur ton téléphone »\, » Arrête d’embêter ton frère… »\, voilà quelques exemples de situations qui ne sont pas toujours faciles à gérer au quotidien. \nRetrouvons-nous entre parents pour échanger ensemble dans la bienveillance autour d’un petit-déjeuner convivial. \nRendez-vous tous les vendredis à Espace 19 Tanger entre 9h30 et 11h (arrivée et départ libre sur ce créneau horaire). \nUn moments d’échanges ouvert à tou.te.s et gratuit.
URL:https://espace19.org/event/petit-dejeuner-des-parents-a-espace-19-tanger/
LOCATION:Espace 19 Tanger\, 28 rue de Tanger\, Paris\, 75019\, France
CATEGORIES:parents
ATTACH;FMTTYPE=image/jpeg:https://espace19.org/wp-content/uploads/2023/03/cafe-des-parents.jpg
END:VEVENT
END:VCALENDAR