BEGIN:VCALENDAR
VERSION:2.0
PRODID:-//Espace 19 - ECPv6.8.3//NONSGML v1.0//EN
CALSCALE:GREGORIAN
METHOD:PUBLISH
X-ORIGINAL-URL:https://espace19.org
X-WR-CALDESC:Évènements pour Espace 19
REFRESH-INTERVAL;VALUE=DURATION:PT1H
X-Robots-Tag:noindex
X-PUBLISHED-TTL:PT1H
BEGIN:VTIMEZONE
TZID:Europe/Paris
BEGIN:DAYLIGHT
TZOFFSETFROM:+0100
TZOFFSETTO:+0200
TZNAME:CEST
DTSTART:20230326T010000
END:DAYLIGHT
BEGIN:STANDARD
TZOFFSETFROM:+0200
TZOFFSETTO:+0100
TZNAME:CET
DTSTART:20231029T010000
END:STANDARD
END:VTIMEZONE
BEGIN:VEVENT
DTSTART;TZID=Europe/Paris:20230331T093000
DTEND;TZID=Europe/Paris:20230331T110000
DTSTAMP:20260424T211640
CREATED:20230328T100946Z
LAST-MODIFIED:20230328T100946Z
UID:45223-1680255000-1680260400@espace19.org
SUMMARY:Petit-déjeuner des parents à Espace 19 Tanger !
DESCRIPTION:« Dépêche toi\, tu vas être en retard ! »\, « Ca fait trop longtemps que tu es sur ton téléphone »\, » Arrête d’embêter ton frère… »\, voilà quelques exemples de situations qui ne sont pas toujours faciles à gérer au quotidien. \nRetrouvons-nous entre parents pour échanger ensemble dans la bienveillance autour d’un petit-déjeuner convivial. \nRendez-vous tous les vendredis à Espace 19 Tanger entre 9h30 et 11h (arrivée et départ libre sur ce créneau horaire). \nUn moments d’échanges ouvert à tou.te.s et gratuit.
URL:https://espace19.org/event/petit-dejeuner-des-parents-a-espace-19-tanger-2/
LOCATION:Espace 19 Tanger\, 28 rue de Tanger\, Paris\, 75019\, France
CATEGORIES:parents
ATTACH;FMTTYPE=image/jpeg:https://espace19.org/wp-content/uploads/2023/03/cafe-des-parents.jpg
END:VEVENT
BEGIN:VEVENT
DTSTART;TZID=Europe/Paris:20230331T180000
DTEND;TZID=Europe/Paris:20230331T180000
DTSTAMP:20260424T211640
CREATED:20230320T111628Z
LAST-MODIFIED:20230320T111628Z
UID:45065-1680285600-1680285600@espace19.org
SUMMARY:Assemblée Générale d'Espace 19
DESCRIPTION:Tou.te.s les adhérent.e.s d’Espace 19 sont invité.e.s à l’Assemblée Générale de l’association. \nUn temps d’échanges essentiels avec au programme : la présentation du bilan 2022\, des ateliers de discussions en petits groupes\, l’élection des administrateurs\, les votes\, etc. \nComme chaque année\, la soirée se clôturera autour d’un buffet convivial. \nOn espère vous y retrouver nombreux ! \n 
URL:https://espace19.org/event/assemblee-generale-despace-19/
LOCATION:Collège Edgar Varèse\, 16 rue Adolphe Mille\, Paris\, 75019\, France
ATTACH;FMTTYPE=image/jpeg:https://espace19.org/wp-content/uploads/2023/03/AG-2020-site-agenda.jpg
END:VEVENT
END:VCALENDAR