BEGIN:VCALENDAR
VERSION:2.0
PRODID:-//Espace 19 - ECPv6.8.3//NONSGML v1.0//EN
CALSCALE:GREGORIAN
METHOD:PUBLISH
X-WR-CALNAME:Espace 19
X-ORIGINAL-URL:https://espace19.org
X-WR-CALDESC:Évènements pour Espace 19
REFRESH-INTERVAL;VALUE=DURATION:PT1H
X-Robots-Tag:noindex
X-PUBLISHED-TTL:PT1H
BEGIN:VTIMEZONE
TZID:Europe/Paris
BEGIN:DAYLIGHT
TZOFFSETFROM:+0100
TZOFFSETTO:+0200
TZNAME:CEST
DTSTART:20220327T010000
END:DAYLIGHT
BEGIN:STANDARD
TZOFFSETFROM:+0200
TZOFFSETTO:+0100
TZNAME:CET
DTSTART:20221030T010000
END:STANDARD
END:VTIMEZONE
BEGIN:VEVENT
DTSTART;TZID=Europe/Paris:20220502T150000
DTEND;TZID=Europe/Paris:20220502T150000
DTSTAMP:20260423T121130
CREATED:20220503T082209Z
LAST-MODIFIED:20220503T082209Z
UID:38633-1651503600-1651503600@espace19.org
SUMMARY:[Séance 1] Atelier Ô les masques
DESCRIPTION:Cette année\, Espace 19 participe au Grand Carnaval des Géants dans le 19ème  le samedi 21 Mai !\nNous souhaitons réaliser une marionnette géante de toutes les couleurs et de toutes les nationalités à l’image du quartier. Rejoignez-nous pour partager vos idées et votre envie de défiler avec nous ! Nous réaliserons la marionnette sur 3 à 4 ateliers. \nEnvie de vous joindre à nous pour cette belle aventure ? Inscrivez-vous auprès de Maéva ou Marion en contactant Espace 19 Riquet (01 53 26 89 00).
URL:https://espace19.org/event/seance-1-atelier-o-les-masques/
LOCATION:Espace 19 Riquet\, 53 rue Riquet\, Paris\, 75019\, France
CATEGORIES:Tous publics
ATTACH;FMTTYPE=image/jpeg:https://espace19.org/wp-content/uploads/2022/05/Carnaval-geants.jpg
END:VEVENT
BEGIN:VEVENT
DTSTART;TZID=Europe/Paris:20220504T143000
DTEND;TZID=Europe/Paris:20220504T163000
DTSTAMP:20260423T121130
CREATED:20220503T083500Z
LAST-MODIFIED:20220503T083500Z
UID:38639-1651674600-1651681800@espace19.org
SUMMARY:Atelier Pop Art
DESCRIPTION:A partir du livre d’un artiste photographe\, venez réaliser votre carte postale Pop Art’ en couleurs et participer à la grande fresque pour la fête de quartier ! \nEnvie de passer un après-midi convivial et créatif ? \nContactez Espace 19 Riquet (01 53 26 89 00) et inscrivez-vous auprès de Maéva ou Marion.
URL:https://espace19.org/event/atelier-pop-art/
LOCATION:Espace 19 Riquet\, 53 rue Riquet\, Paris\, 75019\, France
CATEGORIES:Tous publics
ATTACH;FMTTYPE=image/png:https://espace19.org/wp-content/uploads/2022/05/image005.png
END:VEVENT
BEGIN:VEVENT
DTSTART;TZID=Europe/Paris:20220505T143000
DTEND;TZID=Europe/Paris:20220505T143000
DTSTAMP:20260423T121130
CREATED:20220503T091502Z
LAST-MODIFIED:20220503T091502Z
UID:38644-1651761000-1651761000@espace19.org
SUMMARY:Visite découverte à l'Institut du monde arabe
DESCRIPTION:Venez découvrir les arts et les cultures diverses du monde arabe avec les expositions permanentes et la bibliothèque de l’Institut du monde arabe. \nRendez-vous à Espace 19 Riquet (53 rue Riquet) à 14h30 pour un bel après-midi de découverte ! \nPour vous inscrire\, contactez Maéva ou Marion à Espace 19 Riquet (01 53 26 89 00).
URL:https://espace19.org/event/visite-decouverte-a-linstitut-du-monde-arabe/
LOCATION:Espace 19 Riquet\, 53 rue Riquet\, Paris\, 75019\, France
CATEGORIES:Tous publics
ATTACH;FMTTYPE=image/jpeg:https://espace19.org/wp-content/uploads/2022/05/image008.jpg
END:VEVENT
BEGIN:VEVENT
DTSTART;TZID=Europe/Paris:20220506T101500
DTEND;TZID=Europe/Paris:20220506T123000
DTSTAMP:20260423T121130
CREATED:20220503T091902Z
LAST-MODIFIED:20220503T091902Z
UID:38647-1651832100-1651840200@espace19.org
SUMMARY:[Séance 2] Atelier Ô les masques !
DESCRIPTION:Cette année\, Espace 19 participe au Grand Carnaval des Géants dans le 19ème  le samedi 21 mai. \nVenez préparer avec nous le Grand Géant multicolores et multiculturels d’Espace 19 ! \nCet atelier fait partie d’un cycle de 4 ateliers qui nous permettra de faire naître notre effigie et de l’emmener carnavaler avec nous dans les rues de Paris. \nLes ateliers sont gratuits et ouverts à tou.te.s (jeunes à partir de 13 ans accompagnés par leurs parents). \nPour vous inscrire\, contactez Maéva ou Marion à Espace 19 Riquet (01 53 26 89 00).
URL:https://espace19.org/event/seance-2-atelier-o-les-masques/
LOCATION:Espace 19 Riquet\, 53 rue Riquet\, Paris\, 75019\, France
CATEGORIES:Tous publics
ATTACH;FMTTYPE=image/jpeg:https://espace19.org/wp-content/uploads/2022/05/Carnaval-geants.jpg
END:VEVENT
BEGIN:VEVENT
DTSTART;TZID=Europe/Paris:20220506T143000
DTEND;TZID=Europe/Paris:20220506T143000
DTSTAMP:20260423T121130
CREATED:20220503T093819Z
LAST-MODIFIED:20220503T093900Z
UID:38649-1651847400-1651847400@espace19.org
SUMMARY:Visite contée du Quai Branly
DESCRIPTION:À travers une sélection d’œuvres\, conteuses et conteurs vous font découvrir l’univers des chefferies traditionnelles du Cameroun. \nUn bel après-midi de découverte en perspective ! \nPour vous inscrire\, contacter Maéva ou Marion d’Espace 19 Riquet au 01 53 26 89 00. \n 
URL:https://espace19.org/event/seance-3-visite-contee-du-quai-branly/
LOCATION:Espace 19 Riquet\, 53 rue Riquet\, Paris\, 75019\, France
CATEGORIES:Tous publics
ATTACH;FMTTYPE=image/png:https://espace19.org/wp-content/uploads/2022/05/image011.png
END:VEVENT
BEGIN:VEVENT
DTSTART;TZID=Europe/Paris:20220506T163000
DTEND;TZID=Europe/Paris:20220506T183000
DTSTAMP:20260423T121130
CREATED:20220503T094424Z
LAST-MODIFIED:20220503T094424Z
UID:38654-1651854600-1651861800@espace19.org
SUMMARY:Présentation Atelier Destins liés : construction en images et musique
DESCRIPTION:Participez à ce beau projet dessin/musique pour la Fête de Quartier du 18 Juin. \nVenez raconter par le dessin ou la musique votre histoire et vos envies en collectif ! Un échange entre parents-enfants et entre les générations. \nPour vous inscrire\, contactez Maéva ou Marion à Espace 19 Riquet (01 53 26 89 00).
URL:https://espace19.org/event/presentation-atelier-destins-lies-construction-en-images-et-musique/
LOCATION:Espace 19 Riquet\, 53 rue Riquet\, Paris\, 75019\, France
CATEGORIES:Tous publics
ATTACH;FMTTYPE=image/jpeg:https://espace19.org/wp-content/uploads/2022/05/Sans-titre-6.jpg
END:VEVENT
END:VCALENDAR