BEGIN:VCALENDAR
VERSION:2.0
PRODID:-//Espace 19 - ECPv6.8.3//NONSGML v1.0//EN
CALSCALE:GREGORIAN
METHOD:PUBLISH
X-ORIGINAL-URL:https://espace19.org
X-WR-CALDESC:Évènements pour Espace 19
REFRESH-INTERVAL;VALUE=DURATION:PT1H
X-Robots-Tag:noindex
X-PUBLISHED-TTL:PT1H
BEGIN:VTIMEZONE
TZID:Europe/Paris
BEGIN:DAYLIGHT
TZOFFSETFROM:+0100
TZOFFSETTO:+0200
TZNAME:CEST
DTSTART:20220327T010000
END:DAYLIGHT
BEGIN:STANDARD
TZOFFSETFROM:+0200
TZOFFSETTO:+0100
TZNAME:CET
DTSTART:20221030T010000
END:STANDARD
END:VTIMEZONE
BEGIN:VEVENT
DTSTART;TZID=Europe/Paris:20220601T173000
DTEND;TZID=Europe/Paris:20220601T173000
DTSTAMP:20260423T104309
CREATED:20220524T143718Z
LAST-MODIFIED:20220524T143718Z
UID:39296-1654104600-1654104600@espace19.org
SUMMARY:Banquet Citoyen
DESCRIPTION:Espace 19 Ourcq a le plaisir d’inviter les habitant.e.s du quartier Ourcq à un banquet citoyen le mercredi 1er juin à partir de 17h30. \nAu programme :\n– Découverte en avant-première de l’exposition photo « Mon 19e » sur l’histoire du quartier\n– Puis à partir de 18h un repas partagé accompagné de plusieurs animations ludiques pour échanger sur le quartier (speed débats\, etc.). \nUn bel événement en perspective\, qui permettra de partager des idées pour le quartier sur une panoplie de thématiques (solidarité\, jeunesse\, convivialité\, cadre de vie\, famille\, etc.) \nVous habitez le quartier Ourcq et vous souhaitez participer à l’événement ? Contactez l’équipe d’Espace 19 Ourcq au 01 42 38 00 05 pour vous inscrire.
URL:https://espace19.org/event/banquet-citoyen/
LOCATION:Lieu\, 19 rue de l'Ourcq\, Paris\, 75019\, France
CATEGORIES:Tous publics
ATTACH;FMTTYPE=image/png:https://espace19.org/wp-content/uploads/2022/05/V1-banquet-citoyen.png
END:VEVENT
BEGIN:VEVENT
DTSTART;TZID=Europe/Paris:20220604T160000
DTEND;TZID=Europe/Paris:20220604T160000
DTSTAMP:20260423T104309
CREATED:20220602T153828Z
LAST-MODIFIED:20220602T153828Z
UID:39525-1654358400-1654358400@espace19.org
SUMMARY:SPECTACLE - Le Trapèze de Léon
DESCRIPTION:Espace 19 Ourcq et la Compagnie Xènos vous invitent à un spectacle ! \nUne déambulation musicale et colorée pour toute la famille\, dans le parc piétonnier de la petite ceinture\, à la poursuite de l’histoire de notre quartier. \nRendez-vous à 16h au 30 rue de Thionville pour 40 minutes de spectacle. \nRenseignements au 01 42 38 00 05.
URL:https://espace19.org/event/spectacle-le-trapeze-de-leon/
LOCATION:30 rue de Thionville\, 30 rue de Thionville\, Paris\, 75019\, France
CATEGORIES:Tous publics
ATTACH;FMTTYPE=image/jpeg:https://espace19.org/wp-content/uploads/2022/06/affiche-le-trapere-de-Leon-001.jpg
END:VEVENT
BEGIN:VEVENT
DTSTART;TZID=Europe/Paris:20220618T140000
DTEND;TZID=Europe/Paris:20220618T180000
DTSTAMP:20260423T104309
CREATED:20220609T092535Z
LAST-MODIFIED:20220609T092610Z
UID:39697-1655560800-1655575200@espace19.org
SUMMARY:Fête de quartier Espace 19 Cambrai
DESCRIPTION:L’équipe d’Espace 19 Cambrai vous donne rendez-vous au jardin du Ver Têtu (22 rue Bernard Tétu) pour un après-midi festif avec au programme : \n\nune ferme pédagogique\,\ndes jeux de kermesse\,\nun spectacle de batucada\,\nun DJ et une animation musicale\,\nEt bien d’autres animations\n\nVenez partager un moment convivial avec nous ! \nL’événement est gratuit et ouvert à tou.te.s.\nPour toutes questions\, vous pouvez contacter l’équipe au 01 40 37 78 85.
URL:https://espace19.org/event/fete-de-quartier-espace-19-cambrai/
LOCATION:Jardin du Ver Têtu\, 22 rue Bernard Tétu\, Paris\, 75019\, France
CATEGORIES:Tous publics
ATTACH;FMTTYPE=image/png:https://espace19.org/wp-content/uploads/2022/06/Sans-titre-26.png
END:VEVENT
BEGIN:VEVENT
DTSTART;TZID=Europe/Paris:20220618T150000
DTEND;TZID=Europe/Paris:20220618T210000
DTSTAMP:20260423T104309
CREATED:20220609T093223Z
LAST-MODIFIED:20220609T093223Z
UID:39704-1655564400-1655586000@espace19.org
SUMMARY:Fête de quartier Espace 19 Riquet
DESCRIPTION:Venez partager un moment convivial et festif avec nous ! \nL’équipe vous a préparé toute une programmation autour du bal guinguette. Rendez-vous à partir de 15h à Espace 19 Riquet dans vos plus belles tenues ! \nIl y aura aussi des stands de jeux forains\, un atelier maquillage\, un barbecue et un repas partagé. \nUne belle fête en perspective ! \nPour toutes questions\, vous pouvez contacter l’équipe au 01 53 26 89 00.
URL:https://espace19.org/event/fete-de-quartier-espace-19-riquet/
LOCATION:Espace 19 Riquet\, 53 rue Riquet\, Paris\, 75019\, France
CATEGORIES:Tous publics
ATTACH;FMTTYPE=image/jpeg:https://espace19.org/wp-content/uploads/2022/06/DSC00615-scaled.jpg
END:VEVENT
BEGIN:VEVENT
DTSTART;TZID=Europe/Paris:20220625T083000
DTEND;TZID=Europe/Paris:20220625T173000
DTSTAMP:20260423T104309
CREATED:20220609T100022Z
LAST-MODIFIED:20220616T163115Z
UID:39715-1656145800-1656178200@espace19.org
SUMMARY:Vide-Grenier solidaire
DESCRIPTION:Espace 19 Ourcq vous donne rendez-vous le samedi 25 juin de 8h30 à 17h30 pour un vide-grenier solidaire !\n\nOrganisé dans le cadre de la fête de quartier Ourcq\, il y aura aussi au programme : des activités pour les petits et les grands\, une buvette et bien d’autres animations conviviales ! \nVous êtes habitant.e.s du 19ème et vous souhaitez réserver un espace de vente ? Rendez-vous à Espace 19 Ourcq (20 rue Léon Giraud) pour réserver un stand ! Le tarif est de 20€ pour 2 mètres. L’ensemble des fonds récoltés permettra de financer des projets solidaires. \nPour toutes questions\, contactez-nous au 01 42 38 00 05.
URL:https://espace19.org/event/vide-grenier-solidaire/
LOCATION:Rue de l’Ourcq – Paris 19e\, 13 rue de l'Ourcq\, Paris\, 75019\, France
CATEGORIES:Tous publics
ATTACH;FMTTYPE=image/jpeg:https://espace19.org/wp-content/uploads/2022/06/photo-vide-grenier-plus-recent-scaled.jpg
END:VEVENT
BEGIN:VEVENT
DTSTART;TZID=Europe/Paris:20220625T140000
DTEND;TZID=Europe/Paris:20220625T180000
DTSTAMP:20260423T104309
CREATED:20220609T093900Z
LAST-MODIFIED:20220609T093900Z
UID:39707-1656165600-1656180000@espace19.org
SUMMARY:Fête de quartier Espace 19 Ourcq
DESCRIPTION:Toute l’équipe d’Espace 19 Ourcq vous attend pour une super fête de quartier autour de la nature ! \nAu programme : une ferme pédagogique\, un marché de fruits et légumes par le Collectif O’ Bons Légumes\, des ateliers jardinage\, des jeux gonflables\, une animation musicale\, etc. \nUn bon moment convivial et festif en perspective ! \nL’événement est gratuit et ouvert à tou.te.s.\nPour toutes questions\, vous pouvez contacter l’équipe au 01 42 38 00 05. \n 
URL:https://espace19.org/event/fete-de-quartier-espace-19-ourcq/
LOCATION:Espace 19 Ourcq\, 19 rue des Ardennes\, Paris\, 75019\, France
CATEGORIES:Tous publics
ATTACH;FMTTYPE=image/jpeg:https://espace19.org/wp-content/uploads/2022/06/IMG_5320-scaled.jpg
END:VEVENT
BEGIN:VEVENT
DTSTART;TZID=Europe/Paris:20220625T140000
DTEND;TZID=Europe/Paris:20220625T180000
DTSTAMP:20260423T104309
CREATED:20220609T094312Z
LAST-MODIFIED:20220609T094312Z
UID:39711-1656165600-1656180000@espace19.org
SUMMARY:Fête de quartier Espace Ludo
DESCRIPTION:Toute l’équipe d’Espace Ludo vous donne rendez-vous à la rue de Meaux  pour partager un moment convivial et festif ! \nAu programme : des grands jeux en bois\, des kapla\, des ateliers créatifs\, une dinette géante\,  un buffet-buvette et bien d’autres animations conviviales. \nPetits ou grands\, venez jouer et vous amuser\, il y en aura pour tous les goûts ! \nL’événement est gratuit et ouvert à tou.te.s.\nPour toutes questions\, vous pouvez contacter l’équipe au 01 40 32 48 65.
URL:https://espace19.org/event/fete-de-quartier-espace-ludo/
LOCATION:rue de Meaux – Paris 19e\, rue de Meaux\, Paris\, 75019\, France
CATEGORIES:Tous publics
ATTACH;FMTTYPE=image/jpeg:https://espace19.org/wp-content/uploads/2022/06/DSC0103-scaled.jpg
END:VEVENT
END:VCALENDAR