BEGIN:VCALENDAR
VERSION:2.0
PRODID:-//Espace 19 - ECPv6.8.3//NONSGML v1.0//EN
CALSCALE:GREGORIAN
METHOD:PUBLISH
X-ORIGINAL-URL:https://espace19.org
X-WR-CALDESC:Évènements pour Espace 19
REFRESH-INTERVAL;VALUE=DURATION:PT1H
X-Robots-Tag:noindex
X-PUBLISHED-TTL:PT1H
BEGIN:VTIMEZONE
TZID:Europe/Paris
BEGIN:DAYLIGHT
TZOFFSETFROM:+0100
TZOFFSETTO:+0200
TZNAME:CEST
DTSTART:20220327T010000
END:DAYLIGHT
BEGIN:STANDARD
TZOFFSETFROM:+0200
TZOFFSETTO:+0100
TZNAME:CET
DTSTART:20221030T010000
END:STANDARD
END:VTIMEZONE
BEGIN:VEVENT
DTSTART;TZID=Europe/Paris:20220707T132000
DTEND;TZID=Europe/Paris:20220707T163000
DTSTAMP:20260421T074354
CREATED:20220609T104826Z
LAST-MODIFIED:20220609T104826Z
UID:39729-1657200000-1657211400@espace19.org
SUMMARY:Sortie Ciné-Balade "Lumière\, l'enfance du cinéma"
DESCRIPTION:Pol Gosset\, bénévole d’Espace 19 Riquet\, vous propose de découvrir Paris à travers le cinéma avec Juliette Dubois. \nAu programme : visite en images et souvenirs des inventeurs mythiques du cinéma au sein du quartier de l’Opéra et des Grands Boulevards ! \nAlors\, ça vous dit ? Rendez-vous à 13h20 à Espace 19 Riquet (53 rue Riquet\, Paris 19e). \nL’événement est gratuit et sur inscription. \nPour vous inscrire et pour toute question\, contactez Maéva au 01 53 26 89 00.
URL:https://espace19.org/event/sortie-cine-balade-lumiere-lenfance-du-cinema/
CATEGORIES:Tous publics
ATTACH;FMTTYPE=image/jpeg:https://espace19.org/wp-content/uploads/2022/06/Cine-Balade-_1_.jpg
END:VEVENT
BEGIN:VEVENT
DTSTART;TZID=Europe/Paris:20220713T100000
DTEND;TZID=Europe/Paris:20220713T120000
DTSTAMP:20260421T074354
CREATED:20220708T060154Z
LAST-MODIFIED:20220708T060154Z
UID:40538-1657706400-1657713600@espace19.org
SUMMARY:Atelier création avec une Intelligence Artificielle
DESCRIPTION:Venez découvrir à Espace 19 numérique comment faire de la création avec une intelligence artificielle. \nInscrivez-vous en contactant l’équipe au 01 88 40 52 65 ! \n 
URL:https://espace19.org/event/atelier-creation-avec-une-intelligence-artificielle/
LOCATION:Espace 19 Numérique\, 167 rue de Crimée\, Paris\, 75019\, France
CATEGORIES:Tous publics
ATTACH;FMTTYPE=image/jpeg:https://espace19.org/wp-content/uploads/2022/07/pexels-pixabay-373543-scaled.jpg
END:VEVENT
BEGIN:VEVENT
DTSTART;TZID=Europe/Paris:20220720T100000
DTEND;TZID=Europe/Paris:20220720T120000
DTSTAMP:20260421T074354
CREATED:20220708T060952Z
LAST-MODIFIED:20220708T060952Z
UID:40543-1658311200-1658318400@espace19.org
SUMMARY:Atelier marche numérique
DESCRIPTION:Thibault d’Espace 19 Numérique vous attend pour une belle balade au sein du quartier. Ce sera l’occasion de découvrir plusieurs applications qui permettent autant de reconnaître le nom des plantes\, que de découvrir du street art\, et de se repérer. \nAlors\, ça vous dit ?\nInscrivez-vous au  01 88 40 52 65 !
URL:https://espace19.org/event/atelier-marche-numerique/
LOCATION:Espace 19 Numérique\, 167 rue de Crimée\, Paris\, 75019\, France
CATEGORIES:Tous publics
ATTACH;FMTTYPE=image/png:https://espace19.org/wp-content/uploads/2022/07/Sans-titre-31.png
END:VEVENT
BEGIN:VEVENT
DTSTART;TZID=Europe/Paris:20220729T140000
DTEND;TZID=Europe/Paris:20220729T160000
DTSTAMP:20260421T074354
CREATED:20220708T083711Z
LAST-MODIFIED:20220708T083711Z
UID:40563-1659103200-1659110400@espace19.org
SUMMARY:Atelier "Classer ses données"
DESCRIPTION:Rendez-vous à Espace 19 Numérique pour découvrir des outils et des bons conseils pour classer ses données numériques. \nPour vous inscrire\, contactez l’équipe au 01 88 40 52 65 !
URL:https://espace19.org/event/atelier-classer-ses-donnees/
LOCATION:Espace 19 Numérique\, 167 rue de Crimée\, Paris\, 75019\, France
CATEGORIES:Tous publics
ATTACH;FMTTYPE=image/jpeg:https://espace19.org/wp-content/uploads/2022/07/pexels-kevin-ku-577585-scaled.jpg
END:VEVENT
END:VCALENDAR