BEGIN:VCALENDAR
VERSION:2.0
PRODID:-//Espace 19 - ECPv6.8.3//NONSGML v1.0//EN
CALSCALE:GREGORIAN
METHOD:PUBLISH
X-WR-CALNAME:Espace 19
X-ORIGINAL-URL:https://espace19.org
X-WR-CALDESC:Évènements pour Espace 19
REFRESH-INTERVAL;VALUE=DURATION:PT1H
X-Robots-Tag:noindex
X-PUBLISHED-TTL:PT1H
BEGIN:VTIMEZONE
TZID:Europe/Paris
BEGIN:DAYLIGHT
TZOFFSETFROM:+0100
TZOFFSETTO:+0200
TZNAME:CEST
DTSTART:20220327T010000
END:DAYLIGHT
BEGIN:STANDARD
TZOFFSETFROM:+0200
TZOFFSETTO:+0100
TZNAME:CET
DTSTART:20221030T010000
END:STANDARD
END:VTIMEZONE
BEGIN:VEVENT
DTSTART;TZID=Europe/Paris:20221108T093000
DTEND;TZID=Europe/Paris:20221108T130000
DTSTAMP:20260421T015925
CREATED:20221025T091228Z
LAST-MODIFIED:20221025T104511Z
UID:42239-1667899800-1667912400@espace19.org
SUMMARY:Atelier cuisine : les produits de saison
DESCRIPTION:Envie de découvrir de nouvelles recettes ? \nVenez participer à un atelier cuisine autour des produits de saison ! \nAu menu : soupe de potimarron\, papillote de saumon et dessert au potimarron. \nOn terminera la séance en partageant un repas tous ensemble ! \nPour vous inscrire\, contactez-nous au 09 68 38 24 06 ou au 07 68 38 24 06. \nTarifs : 10€ par trimestre et 30€ pour l’année. \n 
URL:https://espace19.org/event/atelier-cuisine-les-produits-de-saison/
LOCATION:Espace 19 Riquet\, 53 rue Riquet\, Paris\, 75019\, France
CATEGORIES:Tous publics
ATTACH;FMTTYPE=image/jpeg:https://espace19.org/wp-content/uploads/2022/10/Agenda-atelier-cuisine-1.jpg
END:VEVENT
BEGIN:VEVENT
DTSTART;TZID=Europe/Paris:20221117T163000
DTEND;TZID=Europe/Paris:20221117T183000
DTSTAMP:20260421T015925
CREATED:20221025T102515Z
LAST-MODIFIED:20221110T153047Z
UID:42249-1668702600-1668709800@espace19.org
SUMMARY:Vente de fruits\, légumes et produits secs de saison
DESCRIPTION:Achetez des produits de saison et bons pour votre santé ! \nLe collectif d’habitant.e.s O’ Bons Légumes vous donne rendez-vous à Espace 19 Cambrai pour un marché de fruits et légumes locaux et de produits secs en circuit court. \nUn atelier cuisine sera également organisé le 18 novembre de 09h30 à 12h30. Pour vous y inscrire\, contactez l’équipe au 07 6 8 38 24 06. \n  \n\nLe Collectif O’ Bons Légumes\, c’est un groupe d’habitant.e.s du 19ème\, engagés pour une alimentation saine\, responsable et accessible à tous. Leur souhait : créer un groupement d’achat de produits locaux\, de qualité et en circuit-court. Un beau projet sur lequel Espace 19 Santé & Médiation les accompagne !
URL:https://espace19.org/event/vente-de-fruits-legumes-et-produits-secs-de-saison-2/
LOCATION:Espace 19 Cambrai\, 28 rue Bernard Tétu\, Paris\, 75\, 75019\, France
CATEGORIES:Tous publics
ATTACH;FMTTYPE=image/jpeg:https://espace19.org/wp-content/uploads/2022/10/IMG_8644-scaled.jpg
END:VEVENT
BEGIN:VEVENT
DTSTART;TZID=Europe/Paris:20221122T140000
DTEND;TZID=Europe/Paris:20221122T170000
DTSTAMP:20260421T015925
CREATED:20221025T103438Z
LAST-MODIFIED:20221025T103438Z
UID:42252-1669125600-1669136400@espace19.org
SUMMARY:Atelier self-défense suivi de conseils bien-être avec un ostéopathe
DESCRIPTION:Dans le cadre de la journée de lutte contre les violences faites aux femmes\, Espace 19 Santé & Médiation et Libres Terres des Femmes vous donne rendez-vous le mardi 22 novembre pour un atelier self-défense et un échange de conseils santé avec un ostéopathe. \nL’événement est gratuit et ouvert à toutes. \nPour toutes questions\, contactez-nous au 09 81 64 84 58. \n  \nÉvénement organisé en partenariat avec : Ladies System Defense\, Le Centre Paris Anim Curial et la Ligue de l’Enseignement. \nEt avec le soutien de : la Mairie du 19ème\, la Ville de Paris\, et le CIPDR.
URL:https://espace19.org/event/atelier-self-defense-suivi-de-conseils-bien-etre-avec-un-osteopathe/
LOCATION:Centre Paris Anim Curial\, 16 rue Colette Magny\, Paris\, 75019\, France
CATEGORIES:Tous publics
ATTACH;FMTTYPE=image/jpeg:https://espace19.org/wp-content/uploads/2022/10/Photo-1-scaled.jpg
END:VEVENT
END:VCALENDAR