BEGIN:VCALENDAR
VERSION:2.0
PRODID:-//Espace 19 - ECPv6.8.3//NONSGML v1.0//EN
CALSCALE:GREGORIAN
METHOD:PUBLISH
X-ORIGINAL-URL:https://espace19.org
X-WR-CALDESC:Évènements pour Espace 19
REFRESH-INTERVAL;VALUE=DURATION:PT1H
X-Robots-Tag:noindex
X-PUBLISHED-TTL:PT1H
BEGIN:VTIMEZONE
TZID:Europe/Paris
BEGIN:DAYLIGHT
TZOFFSETFROM:+0100
TZOFFSETTO:+0200
TZNAME:CEST
DTSTART:20230326T010000
END:DAYLIGHT
BEGIN:STANDARD
TZOFFSETFROM:+0200
TZOFFSETTO:+0100
TZNAME:CET
DTSTART:20231029T010000
END:STANDARD
END:VTIMEZONE
BEGIN:VEVENT
DTSTART;TZID=Europe/Paris:20231014T093000
DTEND;TZID=Europe/Paris:20231014T093000
DTSTAMP:20260420T085111
CREATED:20230919T130131Z
LAST-MODIFIED:20230919T130131Z
UID:47362-1697275800-1697275800@espace19.org
SUMMARY:Foulée solidaire du 19ème
DESCRIPTION:C’est parti pour la 6ème édition de la Foulée Solidaire ! \nAu programme de cette édition :  \n\nUne course de 10km avec un top départ à 10h30\nou un parcours de marche nordique de 5km qui débutera à 9h30\nEt aussi plusieurs animations ouvertes à tou.te.s (stand de présentation des projets des jeunes du 19ème et bien d’autres !)\n\nPour vous inscrire :  \n\nRendez-vous en ligne sur bit.ly/FouléeSolidaire23\nOu sur place le jour j à partir de 08h30\n\nLes tarifs :  \n\n10€ pour la course de 10km et 2€ pour la marche de 5km\nL’ensemble des fonds récoltés permettront de financer des projets menés par les jeunes du 19ème (séjour solidaire\, préparation au diplôme du BAFA\, participation à des sorties culturelles\, etc.).\n\nVenez challenger votre chrono et soutenir les jeunes du quartier ! On vous attend pour un bel événement sportif et solidaire\, dans la bonne humeur. \nPour toutes questions\, contactez le centre social et culturel J2P au 01 42 00 71 82. \nL’événement est organisé par le CIITS : la Fondation Feu Vert Jeunesse\, le Centre social et culturel Danube\, le Centre social et culturel J2P\, l’OPEJ et le centre social et culturel Espace 19 Ourcq.
URL:https://espace19.org/event/foulee-solidaire-du-19eme-2/
LOCATION:Parc des Buttes Chaumont\, Entrée côté Mairie du 19ème\, Paris\, 75019\, France
CATEGORIES:Tous publics
ATTACH;FMTTYPE=image/jpeg:https://espace19.org/wp-content/uploads/2023/09/Photo1-scaled.jpg
END:VEVENT
END:VCALENDAR