BEGIN:VCALENDAR
VERSION:2.0
PRODID:-//Espace 19 - ECPv6.8.3//NONSGML v1.0//EN
CALSCALE:GREGORIAN
METHOD:PUBLISH
X-ORIGINAL-URL:https://espace19.org
X-WR-CALDESC:Évènements pour Espace 19
REFRESH-INTERVAL;VALUE=DURATION:PT1H
X-Robots-Tag:noindex
X-PUBLISHED-TTL:PT1H
BEGIN:VTIMEZONE
TZID:Europe/Paris
BEGIN:DAYLIGHT
TZOFFSETFROM:+0100
TZOFFSETTO:+0200
TZNAME:CEST
DTSTART:20230326T010000
END:DAYLIGHT
BEGIN:STANDARD
TZOFFSETFROM:+0200
TZOFFSETTO:+0100
TZNAME:CET
DTSTART:20231029T010000
END:STANDARD
END:VTIMEZONE
BEGIN:VEVENT
DTSTART;TZID=Europe/Paris:20231202T090000
DTEND;TZID=Europe/Paris:20231202T120000
DTSTAMP:20260420T055832
CREATED:20231130T102214Z
LAST-MODIFIED:20231130T102214Z
UID:48373-1701507600-1701518400@espace19.org
SUMMARY:Forum des métiers
DESCRIPTION:Venez partager votre expérience et votre parcours professionnel avec des collégiens du 19ème ! \nLe samedi 2 décembre Espace 19 Ourcq co-organise un Forum des Métiers au Collège Edgar Varèse de 09h à 12h. \nC’est un temps d’échanges précieux pour les élèves et l’opportunité pour eux de discuter en direct avec des professionnels\, de découvrir des métiers et d’avoir des retours d’expérience. \nTous les secteurs d’activité et les métiers sont bienvenus ! \nPour participer ou pour toutes questions\, contactez-nous au 01 42 38 00 05. \nOn vous attend pour une belle matinée de rencontres et de partage !
URL:https://espace19.org/event/forum-des-metiers-2/
LOCATION:Collège Edgar Varèse\, 16 rue Adolphe Mille\, Paris\, 75019\, France
CATEGORIES:Tous publics
ATTACH;FMTTYPE=image/png:https://espace19.org/wp-content/uploads/2022/11/Sans-titre-38-1.png
END:VEVENT
END:VCALENDAR