BEGIN:VCALENDAR
VERSION:2.0
PRODID:-//Espace 19 - ECPv6.8.3//NONSGML v1.0//EN
CALSCALE:GREGORIAN
METHOD:PUBLISH
X-WR-CALNAME:Espace 19
X-ORIGINAL-URL:https://espace19.org
X-WR-CALDESC:Évènements pour Espace 19
REFRESH-INTERVAL;VALUE=DURATION:PT1H
X-Robots-Tag:noindex
X-PUBLISHED-TTL:PT1H
BEGIN:VTIMEZONE
TZID:Europe/Paris
BEGIN:DAYLIGHT
TZOFFSETFROM:+0100
TZOFFSETTO:+0200
TZNAME:CEST
DTSTART:20210328T010000
END:DAYLIGHT
BEGIN:STANDARD
TZOFFSETFROM:+0200
TZOFFSETTO:+0100
TZNAME:CET
DTSTART:20211031T010000
END:STANDARD
END:VTIMEZONE
BEGIN:VEVENT
DTSTART;TZID=Europe/Paris:20211016T083000
DTEND;TZID=Europe/Paris:20211016T123000
DTSTAMP:20260424T002506
CREATED:20210928T143124Z
LAST-MODIFIED:20210929T092808Z
UID:33232-1634373000-1634387400@espace19.org
SUMMARY:Foulée Solidaire 2021
DESCRIPTION:C’est parti pour la 4ème édition de la Foulée Solidaire ! \nAu programme : au choix une course de 10km ou une marche de 5km et aussi le plein d’animations surprises. \nLes fonds récoltés permettront de financer des projets solidaires menés par des jeunes du 19ème. \nPour vous inscrire\, contactez le Centre social et culturel Danube (01 40 18 54 71) ou en quelques clics par ici: https://bit.ly/FouléeSolidaire21 \n 
URL:https://espace19.org/event/foulee-solidaire-2021/
LOCATION:Parc des Buttes Chaumont\, Entrée côté Mairie du 19ème\, Paris\, 75019\, France
CATEGORIES:Tous publics
ATTACH;FMTTYPE=image/jpeg:https://espace19.org/wp-content/uploads/2021/09/foulée-affiche-1.jpg
END:VEVENT
END:VCALENDAR