BEGIN:VCALENDAR
VERSION:2.0
PRODID:-//Espace 19 - ECPv6.8.3//NONSGML v1.0//EN
CALSCALE:GREGORIAN
METHOD:PUBLISH
X-ORIGINAL-URL:https://espace19.org
X-WR-CALDESC:Évènements pour Espace 19
REFRESH-INTERVAL;VALUE=DURATION:PT1H
X-Robots-Tag:noindex
X-PUBLISHED-TTL:PT1H
BEGIN:VTIMEZONE
TZID:Europe/Paris
BEGIN:DAYLIGHT
TZOFFSETFROM:+0100
TZOFFSETTO:+0200
TZNAME:CEST
DTSTART:20220327T010000
END:DAYLIGHT
BEGIN:STANDARD
TZOFFSETFROM:+0200
TZOFFSETTO:+0100
TZNAME:CET
DTSTART:20221030T010000
END:STANDARD
END:VTIMEZONE
BEGIN:VEVENT
DTSTART;TZID=Europe/Paris:20220427T153000
DTEND;TZID=Europe/Paris:20220427T173000
DTSTAMP:20260423T134319
CREATED:20220425T130920Z
LAST-MODIFIED:20220426T104330Z
UID:38361-1651073400-1651080600@espace19.org
SUMMARY:[Séance 1] Atelier collage artistique
DESCRIPTION:Venez découvrir le collage artistique avec Najet. Pour celles et ceux qui aiment les formes et les couleurs et qui sont curieux de voir ce que l’on peut créer avec du papier de soie\, c’est un atelier à ne pas rater ! \nInscrivez-vous auprès de Maéva et Marion en contactant Espace 19 Riquet (01 53 26 89 00). \n 
URL:https://espace19.org/event/atelier-collage-artistique/
LOCATION:Espace 19 Riquet\, 53 rue Riquet\, Paris\, 75019\, France
CATEGORIES:Tous publics
ATTACH;FMTTYPE=image/jpeg:https://espace19.org/wp-content/uploads/2022/04/Atelier-Najet-dessin-scaled.jpg
END:VEVENT
END:VCALENDAR