BEGIN:VCALENDAR
VERSION:2.0
PRODID:-//Espace 19 - ECPv6.8.3//NONSGML v1.0//EN
CALSCALE:GREGORIAN
METHOD:PUBLISH
X-ORIGINAL-URL:https://espace19.org
X-WR-CALDESC:Évènements pour Espace 19
REFRESH-INTERVAL;VALUE=DURATION:PT1H
X-Robots-Tag:noindex
X-PUBLISHED-TTL:PT1H
BEGIN:VTIMEZONE
TZID:Europe/Paris
BEGIN:DAYLIGHT
TZOFFSETFROM:+0100
TZOFFSETTO:+0200
TZNAME:CEST
DTSTART:20220327T010000
END:DAYLIGHT
BEGIN:STANDARD
TZOFFSETFROM:+0200
TZOFFSETTO:+0100
TZNAME:CET
DTSTART:20221030T010000
END:STANDARD
END:VTIMEZONE
BEGIN:VEVENT
DTSTART;TZID=Europe/Paris:20220505T143000
DTEND;TZID=Europe/Paris:20220505T143000
DTSTAMP:20260423T134437
CREATED:20220503T091502Z
LAST-MODIFIED:20220503T091502Z
UID:38644-1651761000-1651761000@espace19.org
SUMMARY:Visite découverte à l'Institut du monde arabe
DESCRIPTION:Venez découvrir les arts et les cultures diverses du monde arabe avec les expositions permanentes et la bibliothèque de l’Institut du monde arabe. \nRendez-vous à Espace 19 Riquet (53 rue Riquet) à 14h30 pour un bel après-midi de découverte ! \nPour vous inscrire\, contactez Maéva ou Marion à Espace 19 Riquet (01 53 26 89 00).
URL:https://espace19.org/event/visite-decouverte-a-linstitut-du-monde-arabe/
LOCATION:Espace 19 Riquet\, 53 rue Riquet\, Paris\, 75019\, France
CATEGORIES:Tous publics
ATTACH;FMTTYPE=image/jpeg:https://espace19.org/wp-content/uploads/2022/05/image008.jpg
END:VEVENT
END:VCALENDAR