BEGIN:VCALENDAR
VERSION:2.0
PRODID:-//Espace 19 - ECPv6.8.3//NONSGML v1.0//EN
CALSCALE:GREGORIAN
METHOD:PUBLISH
X-WR-CALNAME:Espace 19
X-ORIGINAL-URL:https://espace19.org
X-WR-CALDESC:Évènements pour Espace 19
REFRESH-INTERVAL;VALUE=DURATION:PT1H
X-Robots-Tag:noindex
X-PUBLISHED-TTL:PT1H
BEGIN:VTIMEZONE
TZID:Europe/Paris
BEGIN:DAYLIGHT
TZOFFSETFROM:+0100
TZOFFSETTO:+0200
TZNAME:CEST
DTSTART:20220327T010000
END:DAYLIGHT
BEGIN:STANDARD
TZOFFSETFROM:+0200
TZOFFSETTO:+0100
TZNAME:CET
DTSTART:20221030T010000
END:STANDARD
END:VTIMEZONE
BEGIN:VEVENT
DTSTART;TZID=Europe/Paris:20220713T100000
DTEND;TZID=Europe/Paris:20220713T120000
DTSTAMP:20260423T105952
CREATED:20220708T060154Z
LAST-MODIFIED:20220708T060154Z
UID:40538-1657706400-1657713600@espace19.org
SUMMARY:Atelier création avec une Intelligence Artificielle
DESCRIPTION:Venez découvrir à Espace 19 numérique comment faire de la création avec une intelligence artificielle. \nInscrivez-vous en contactant l’équipe au 01 88 40 52 65 ! \n 
URL:https://espace19.org/event/atelier-creation-avec-une-intelligence-artificielle/
LOCATION:Espace 19 Numérique\, 167 rue de Crimée\, Paris\, 75019\, France
CATEGORIES:Tous publics
ATTACH;FMTTYPE=image/jpeg:https://espace19.org/wp-content/uploads/2022/07/pexels-pixabay-373543-scaled.jpg
END:VEVENT
END:VCALENDAR