BEGIN:VCALENDAR
VERSION:2.0
PRODID:-//Espace 19 - ECPv6.8.3//NONSGML v1.0//EN
CALSCALE:GREGORIAN
METHOD:PUBLISH
X-ORIGINAL-URL:https://espace19.org
X-WR-CALDESC:Évènements pour Espace 19
REFRESH-INTERVAL;VALUE=DURATION:PT1H
X-Robots-Tag:noindex
X-PUBLISHED-TTL:PT1H
BEGIN:VTIMEZONE
TZID:Europe/Paris
BEGIN:DAYLIGHT
TZOFFSETFROM:+0100
TZOFFSETTO:+0200
TZNAME:CEST
DTSTART:20220327T010000
END:DAYLIGHT
BEGIN:STANDARD
TZOFFSETFROM:+0200
TZOFFSETTO:+0100
TZNAME:CET
DTSTART:20221030T010000
END:STANDARD
END:VTIMEZONE
BEGIN:VEVENT
DTSTART;TZID=Europe/Paris:20220803T100000
DTEND;TZID=Europe/Paris:20220803T120000
DTSTAMP:20260421T074711
CREATED:20220708T084018Z
LAST-MODIFIED:20220708T084018Z
UID:40566-1659520800-1659528000@espace19.org
SUMMARY:Atelier "Bons plans sur internet"
DESCRIPTION:Rendez-vous à Espace 19 Numérique pour découvrir des bons plans sur internet ! \nPour vous inscrire\, contactez l’équipe au 01 88 40 52 65.
URL:https://espace19.org/event/atelier-bons-plans-sur-internet/
LOCATION:Espace 19 Numérique\, 167 rue de Crimée\, Paris\, 75019\, France
CATEGORIES:Tous publics
ATTACH;FMTTYPE=image/jpeg:https://espace19.org/wp-content/uploads/2022/07/pexels-pixabay-356043-scaled.jpg
END:VEVENT
END:VCALENDAR