BEGIN:VCALENDAR
VERSION:2.0
PRODID:-//Espace 19 - ECPv6.8.3//NONSGML v1.0//EN
CALSCALE:GREGORIAN
METHOD:PUBLISH
X-ORIGINAL-URL:https://espace19.org
X-WR-CALDESC:Évènements pour Espace 19
REFRESH-INTERVAL;VALUE=DURATION:PT1H
X-Robots-Tag:noindex
X-PUBLISHED-TTL:PT1H
BEGIN:VTIMEZONE
TZID:Europe/Paris
BEGIN:DAYLIGHT
TZOFFSETFROM:+0100
TZOFFSETTO:+0200
TZNAME:CEST
DTSTART:20220327T010000
END:DAYLIGHT
BEGIN:STANDARD
TZOFFSETFROM:+0200
TZOFFSETTO:+0100
TZNAME:CET
DTSTART:20221030T010000
END:STANDARD
END:VTIMEZONE
BEGIN:VEVENT
DTSTART;TZID=Europe/Paris:20220915T163000
DTEND;TZID=Europe/Paris:20220915T183000
DTSTAMP:20260421T062228
CREATED:20220908T082156Z
LAST-MODIFIED:20220908T082156Z
UID:41587-1663259400-1663266600@espace19.org
SUMMARY:Vente de fruits\, légumes et produits secs de saison
DESCRIPTION:Achetez des produits de saison et bons pour votre santé ! \nLe collectif d’habitant.e.s O’ Bons Légumes vous donne rendez-vous à Espace Ludo pour un marché de fruits et légumes locaux et de produits secs en circuit court. \nUn atelier cuisine sera également organisé de 15h à 16h. Pour vous inscrire\, contactez l’équipe au 07 6 8 38 24 06.
URL:https://espace19.org/event/vente-de-fruits-legumes-et-produits-secs-de-saison/
LOCATION:Espace Ludo\, Halle Secrétan - 21 rue Bouret\, Paris\, 75019\, France
CATEGORIES:Tous publics
ATTACH;FMTTYPE=image/jpeg:https://espace19.org/wp-content/uploads/2022/09/1pexels-sarah-chai-7263013-scaled.jpg
END:VEVENT
END:VCALENDAR