BEGIN:VCALENDAR
VERSION:2.0
PRODID:-//Espace 19 - ECPv6.8.3//NONSGML v1.0//EN
CALSCALE:GREGORIAN
METHOD:PUBLISH
X-ORIGINAL-URL:https://espace19.org
X-WR-CALDESC:Évènements pour Espace 19
REFRESH-INTERVAL;VALUE=DURATION:PT1H
X-Robots-Tag:noindex
X-PUBLISHED-TTL:PT1H
BEGIN:VTIMEZONE
TZID:Europe/Paris
BEGIN:DAYLIGHT
TZOFFSETFROM:+0100
TZOFFSETTO:+0200
TZNAME:CEST
DTSTART:20220327T010000
END:DAYLIGHT
BEGIN:STANDARD
TZOFFSETFROM:+0200
TZOFFSETTO:+0100
TZNAME:CET
DTSTART:20221030T010000
END:STANDARD
END:VTIMEZONE
BEGIN:VEVENT
DTSTART;TZID=Europe/Paris:20221001T083000
DTEND;TZID=Europe/Paris:20221001T123000
DTSTAMP:20260421T044913
CREATED:20220923T144654Z
LAST-MODIFIED:20220923T144654Z
UID:41836-1664613000-1664627400@espace19.org
SUMMARY:Cueillette de fruits et légumes à la ferme de Compans
DESCRIPTION:Le collectif O’ Bons Légumes vous donne rendez-vous pour une dernière cueillette avant l’hiver. \nCe sera l’occasion de découvrir les modes de production et d’échanger avec les producteurs ! \nPour s’inscrire ou pour toutes questions : contactez-nous au 09 81 64 84 58 ou au 07 68 38 24 06. \nOn vous attend pour une belle journée de découverte en plein air !
URL:https://espace19.org/event/cueillette-de-fruits-et-legumes-a-la-ferme-de-compans/
LOCATION:Rendez-vous à la Mairie du 19ème\, 5-7 Place Armand Carrel\, Paris\, 75019\, France
CATEGORIES:Tous publics
ATTACH;FMTTYPE=image/jpeg:https://espace19.org/wp-content/uploads/2022/04/Photo-B.jpeg
END:VEVENT
END:VCALENDAR