BEGIN:VCALENDAR
VERSION:2.0
PRODID:-//Espace 19 - ECPv6.8.3//NONSGML v1.0//EN
CALSCALE:GREGORIAN
METHOD:PUBLISH
X-WR-CALNAME:Espace 19
X-ORIGINAL-URL:https://espace19.org
X-WR-CALDESC:Évènements pour Espace 19
REFRESH-INTERVAL;VALUE=DURATION:PT1H
X-Robots-Tag:noindex
X-PUBLISHED-TTL:PT1H
BEGIN:VTIMEZONE
TZID:Europe/Paris
BEGIN:DAYLIGHT
TZOFFSETFROM:+0100
TZOFFSETTO:+0200
TZNAME:CEST
DTSTART:20220327T010000
END:DAYLIGHT
BEGIN:STANDARD
TZOFFSETFROM:+0200
TZOFFSETTO:+0100
TZNAME:CET
DTSTART:20221030T010000
END:STANDARD
END:VTIMEZONE
BEGIN:VEVENT
DTSTART;TZID=Europe/Paris:20221117T163000
DTEND;TZID=Europe/Paris:20221117T183000
DTSTAMP:20260421T032658
CREATED:20221025T102515Z
LAST-MODIFIED:20221110T153047Z
UID:42249-1668702600-1668709800@espace19.org
SUMMARY:Vente de fruits\, légumes et produits secs de saison
DESCRIPTION:Achetez des produits de saison et bons pour votre santé ! \nLe collectif d’habitant.e.s O’ Bons Légumes vous donne rendez-vous à Espace 19 Cambrai pour un marché de fruits et légumes locaux et de produits secs en circuit court. \nUn atelier cuisine sera également organisé le 18 novembre de 09h30 à 12h30. Pour vous y inscrire\, contactez l’équipe au 07 6 8 38 24 06. \n  \n\nLe Collectif O’ Bons Légumes\, c’est un groupe d’habitant.e.s du 19ème\, engagés pour une alimentation saine\, responsable et accessible à tous. Leur souhait : créer un groupement d’achat de produits locaux\, de qualité et en circuit-court. Un beau projet sur lequel Espace 19 Santé & Médiation les accompagne !
URL:https://espace19.org/event/vente-de-fruits-legumes-et-produits-secs-de-saison-2/
LOCATION:Espace 19 Cambrai\, 28 rue Bernard Tétu\, Paris\, 75\, 75019\, France
CATEGORIES:Tous publics
ATTACH;FMTTYPE=image/jpeg:https://espace19.org/wp-content/uploads/2022/10/IMG_8644-scaled.jpg
END:VEVENT
END:VCALENDAR