BEGIN:VCALENDAR
VERSION:2.0
PRODID:-//Espace 19 - ECPv6.8.3//NONSGML v1.0//EN
CALSCALE:GREGORIAN
METHOD:PUBLISH
X-ORIGINAL-URL:https://espace19.org
X-WR-CALDESC:Évènements pour Espace 19
REFRESH-INTERVAL;VALUE=DURATION:PT1H
X-Robots-Tag:noindex
X-PUBLISHED-TTL:PT1H
BEGIN:VTIMEZONE
TZID:Europe/Paris
BEGIN:DAYLIGHT
TZOFFSETFROM:+0100
TZOFFSETTO:+0200
TZNAME:CEST
DTSTART:20230326T010000
END:DAYLIGHT
BEGIN:STANDARD
TZOFFSETFROM:+0200
TZOFFSETTO:+0100
TZNAME:CET
DTSTART:20231029T010000
END:STANDARD
END:VTIMEZONE
BEGIN:VEVENT
DTSTART;TZID=Europe/Paris:20230316T163000
DTEND;TZID=Europe/Paris:20230316T183000
DTSTAMP:20260420T212021
CREATED:20230220T164521Z
LAST-MODIFIED:20230301T152407Z
UID:44464-1678984200-1678991400@espace19.org
SUMMARY:Vente de fruits\, légumes et produits secs de saison
DESCRIPTION:Le collectif d’habitant.e.s O’ Bons Légumes vous donne rendez-vous pour un marché convivial dans son nouveau local à Espace 19 Tanger. Au menu : des fruits et légumes locaux ainsi que des produits secs en circuit court. Venez acheter des produits de qualité et bons pour votre santé\, tout en soutenant un projet du quartier ! \nLa vente sera suivie d’un événement convivial le vendredi 17 mars avec un atelier cuisine de 14h à 16h. Ce sera l’occasion de découvrir de nouvelles recettes pour préparer les produits que vous aurez acheté la veille. Pour vous inscrire\, contactez-nous au 07 68 38 24 06.
URL:https://espace19.org/event/vente-de-fruits-legumes-et-produits-secs-de-saison-3/
LOCATION:Espace 19 Tanger\, 28 rue de Tanger\, Paris\, 75019\, France
CATEGORIES:Tous publics
ATTACH;FMTTYPE=image/jpeg:https://espace19.org/wp-content/uploads/2022/10/IMG_8644-scaled.jpg
END:VEVENT
END:VCALENDAR