BEGIN:VCALENDAR
VERSION:2.0
PRODID:-//Espace 19 - ECPv6.8.3//NONSGML v1.0//EN
CALSCALE:GREGORIAN
METHOD:PUBLISH
X-WR-CALNAME:Espace 19
X-ORIGINAL-URL:https://espace19.org
X-WR-CALDESC:Évènements pour Espace 19
REFRESH-INTERVAL;VALUE=DURATION:PT1H
X-Robots-Tag:noindex
X-PUBLISHED-TTL:PT1H
BEGIN:VTIMEZONE
TZID:Europe/Paris
BEGIN:DAYLIGHT
TZOFFSETFROM:+0100
TZOFFSETTO:+0200
TZNAME:CEST
DTSTART:20230326T010000
END:DAYLIGHT
BEGIN:STANDARD
TZOFFSETFROM:+0200
TZOFFSETTO:+0100
TZNAME:CET
DTSTART:20231029T010000
END:STANDARD
END:VTIMEZONE
BEGIN:VEVENT
DTSTART;TZID=Europe/Paris:20230322T150000
DTEND;TZID=Europe/Paris:20230322T150000
DTSTAMP:20260420T211813
CREATED:20230320T103942Z
LAST-MODIFIED:20230320T103942Z
UID:45062-1679497200-1679497200@espace19.org
SUMMARY:Exposition Eau de Paris
DESCRIPTION:Rendez-vous à Espace Ludo pour une rencontre sur le thème de l’eau à Paris ! \nAu programme : une exposition réalisée par l’association ADCPNE pour présenter le parcours de l’eau à Paris\, son histoire\, sa qualité\, etc. ; des films réalisés par les jeunes d’Espace Ludo avec l’association Labomatique ; et un bar à eau pour le plaisir des papilles ! \nUn après-midi de découverte gratuit et ouvert à tou.te.s.
URL:https://espace19.org/event/exposition-eau-de-paris/
LOCATION:Espace Ludo\, Halle Secrétan - 21 rue Bouret\, Paris\, 75019\, France
CATEGORIES:Tous publics
ATTACH;FMTTYPE=image/jpeg:https://espace19.org/wp-content/uploads/2023/03/eau-de-paris.jpg
END:VEVENT
END:VCALENDAR