BEGIN:VCALENDAR
VERSION:2.0
PRODID:-//Espace 19 - ECPv6.8.3//NONSGML v1.0//EN
CALSCALE:GREGORIAN
METHOD:PUBLISH
X-WR-CALNAME:Espace 19
X-ORIGINAL-URL:https://espace19.org
X-WR-CALDESC:Évènements pour Espace 19
REFRESH-INTERVAL;VALUE=DURATION:PT1H
X-Robots-Tag:noindex
X-PUBLISHED-TTL:PT1H
BEGIN:VTIMEZONE
TZID:Europe/Paris
BEGIN:DAYLIGHT
TZOFFSETFROM:+0100
TZOFFSETTO:+0200
TZNAME:CEST
DTSTART:20230326T010000
END:DAYLIGHT
BEGIN:STANDARD
TZOFFSETFROM:+0200
TZOFFSETTO:+0100
TZNAME:CET
DTSTART:20231029T010000
END:STANDARD
END:VTIMEZONE
BEGIN:VEVENT
DTSTART;TZID=Europe/Paris:20230510T193000
DTEND;TZID=Europe/Paris:20230510T193000
DTSTAMP:20260422T122600
CREATED:20230505T174427Z
LAST-MODIFIED:20230505T174427Z
UID:45748-1683747000-1683747000@espace19.org
SUMMARY:Vernissage "Art engagé\, paroles portées"
DESCRIPTION:Venez découvrir une exposition de peintures engagées réalisées par les jeunes d’Espace 19 Riquet ! \nUn beau partenariat avec les artistes Palmira Clara et Fred Ebami.
URL:https://espace19.org/event/vernissage-art-engage-paroles-portees/
LOCATION:Espace 19 Riquet\, 53 rue Riquet\, Paris\, 75019\, France
CATEGORIES:Tous publics
ATTACH;FMTTYPE=image/jpeg:https://espace19.org/wp-content/uploads/2023/05/20230405_154452-1-scaled.jpg
END:VEVENT
END:VCALENDAR