BEGIN:VCALENDAR
VERSION:2.0
PRODID:-//Espace 19 - ECPv6.8.3//NONSGML v1.0//EN
CALSCALE:GREGORIAN
METHOD:PUBLISH
X-ORIGINAL-URL:https://espace19.org
X-WR-CALDESC:Évènements pour Espace 19
REFRESH-INTERVAL;VALUE=DURATION:PT1H
X-Robots-Tag:noindex
X-PUBLISHED-TTL:PT1H
BEGIN:VTIMEZONE
TZID:Europe/Paris
BEGIN:DAYLIGHT
TZOFFSETFROM:+0100
TZOFFSETTO:+0200
TZNAME:CEST
DTSTART:20230326T010000
END:DAYLIGHT
BEGIN:STANDARD
TZOFFSETFROM:+0200
TZOFFSETTO:+0100
TZNAME:CET
DTSTART:20231029T010000
END:STANDARD
END:VTIMEZONE
BEGIN:VEVENT
DTSTART;TZID=Europe/Paris:20230603T140000
DTEND;TZID=Europe/Paris:20230603T193000
DTSTAMP:20260422T111006
CREATED:20230530T161433Z
LAST-MODIFIED:20230530T161433Z
UID:46054-1685800800-1685820600@espace19.org
SUMMARY:Fête de quartier Flandre - Aubervilliers
DESCRIPTION:L’équipe d’Espace 19 Riquet et d’Espace 19 Tanger vous donne rendez-vous à la fête de quartier Flandre-Aubervilliers pour une panoplie d’activités ludiques\, festives et conviviales ! \nUn bel événement en perspective organisé et coordonné par le Conseil de quartier Flandre-Aubervilliers. \n  \n 
URL:https://espace19.org/event/fete-de-quartier-flandre-aubervilliers/
LOCATION:Jardin Luc Hoffmann\, 33 avenue de Flandre\, Paris\, 75019\, France
CATEGORIES:Tous publics
ATTACH;FMTTYPE=image/jpeg:https://espace19.org/wp-content/uploads/2022/06/DSC00615-scaled.jpg
END:VEVENT
END:VCALENDAR