BEGIN:VCALENDAR
VERSION:2.0
PRODID:-//Espace 19 - ECPv6.8.3//NONSGML v1.0//EN
CALSCALE:GREGORIAN
METHOD:PUBLISH
X-ORIGINAL-URL:https://espace19.org
X-WR-CALDESC:Évènements pour Espace 19
REFRESH-INTERVAL;VALUE=DURATION:PT1H
X-Robots-Tag:noindex
X-PUBLISHED-TTL:PT1H
BEGIN:VTIMEZONE
TZID:Europe/Paris
BEGIN:DAYLIGHT
TZOFFSETFROM:+0100
TZOFFSETTO:+0200
TZNAME:CEST
DTSTART:20230326T010000
END:DAYLIGHT
BEGIN:STANDARD
TZOFFSETFROM:+0200
TZOFFSETTO:+0100
TZNAME:CET
DTSTART:20231029T010000
END:STANDARD
END:VTIMEZONE
BEGIN:VEVENT
DTSTART;TZID=Europe/Paris:20230624T140000
DTEND;TZID=Europe/Paris:20230624T183000
DTSTAMP:20260422T110949
CREATED:20230516T143907Z
LAST-MODIFIED:20230516T144133Z
UID:45904-1687615200-1687631400@espace19.org
SUMMARY:Fête de quartier Espace Ludo
DESCRIPTION:Toute l’équipe d’Espace Ludo vous donne rendez-vous à la rue de Meaux  pour partager un moment convivial et festif ! \nAu programme : des grands jeux en bois\, des ateliers\, des combats de sumos gonflables\, un restaurant des petits\, la célèbre pêche aux canards\, des gourmandises et bien d’autres animations conviviales. \nPetits ou grands\, venez jouer et vous amuser\, il y en aura pour tous les goûts ! \nL’événement est gratuit et ouvert à tou.te.s. Pour toutes questions\, vous pouvez contacter l’équipe au 01 40 32 48 65.
URL:https://espace19.org/event/fete-de-quartier-espace-ludo-2/
LOCATION:rue de Meaux – Paris 19e\, rue de Meaux\, Paris\, 75019\, France
CATEGORIES:Tous publics
ATTACH;FMTTYPE=image/jpeg:https://espace19.org/wp-content/uploads/2022/06/DSC0103-scaled.jpg
END:VEVENT
END:VCALENDAR