BEGIN:VCALENDAR
VERSION:2.0
PRODID:-//Espace 19 - ECPv6.8.3//NONSGML v1.0//EN
CALSCALE:GREGORIAN
METHOD:PUBLISH
X-ORIGINAL-URL:https://espace19.org
X-WR-CALDESC:Évènements pour Espace 19
REFRESH-INTERVAL;VALUE=DURATION:PT1H
X-Robots-Tag:noindex
X-PUBLISHED-TTL:PT1H
BEGIN:VTIMEZONE
TZID:Europe/Paris
BEGIN:DAYLIGHT
TZOFFSETFROM:+0100
TZOFFSETTO:+0200
TZNAME:CEST
DTSTART:20230326T010000
END:DAYLIGHT
BEGIN:STANDARD
TZOFFSETFROM:+0200
TZOFFSETTO:+0100
TZNAME:CET
DTSTART:20231029T010000
END:STANDARD
END:VTIMEZONE
BEGIN:VEVENT
DTSTART;TZID=Europe/Paris:20230920T090000
DTEND;TZID=Europe/Paris:20230920T173000
DTSTAMP:20260420T121116
CREATED:20230919T104348Z
LAST-MODIFIED:20230919T104348Z
UID:47357-1695200400-1695231000@espace19.org
SUMMARY:Journée Portes Ouvertes - Espace 19 Riquet & Espace 19 Tanger
DESCRIPTION:Le 20 septembre\, c’est journée portes ouvertes à Espace 19 Riquet et Espace 19 Tanger ! \nVenez découvrir les (beaux) programmes d’activités préparés par les équipes pour l’année. \n\n\nAteliers\, sorties culturelles\, loisirs jeunesse\, cours de français\, bénévolat\, accompagnement scolaire\, activités en famille\, il y en aura pour tous les goûts (et pour les petits comme les grands) !\n\nEspace 19 Tanger – 28 rue de Tanger\, 19e – 01 84 74 44 99\nEspace 19 Riquet – 53 rue de Riquet\, 19e – 01 53 26 89 00
URL:https://espace19.org/event/journee-portes-ouvertes-espace-19-riquet-espace-19-tanger/
CATEGORIES:Tous publics
ATTACH;FMTTYPE=image/jpeg:https://espace19.org/wp-content/uploads/2023/09/Fete-de-quartier-scaled.jpg
END:VEVENT
END:VCALENDAR