BEGIN:VCALENDAR
VERSION:2.0
PRODID:-//Espace 19 - ECPv6.8.3//NONSGML v1.0//EN
CALSCALE:GREGORIAN
METHOD:PUBLISH
X-ORIGINAL-URL:https://espace19.org
X-WR-CALDESC:Évènements pour Espace 19
REFRESH-INTERVAL;VALUE=DURATION:PT1H
X-Robots-Tag:noindex
X-PUBLISHED-TTL:PT1H
BEGIN:VTIMEZONE
TZID:Europe/Paris
BEGIN:DAYLIGHT
TZOFFSETFROM:+0100
TZOFFSETTO:+0200
TZNAME:CEST
DTSTART:20230326T010000
END:DAYLIGHT
BEGIN:STANDARD
TZOFFSETFROM:+0200
TZOFFSETTO:+0100
TZNAME:CET
DTSTART:20231029T010000
END:STANDARD
END:VTIMEZONE
BEGIN:VEVENT
DTSTART;TZID=Europe/Paris:20231124T101500
DTEND;TZID=Europe/Paris:20231124T123000
DTSTAMP:20260420T090145
CREATED:20231121T112605Z
LAST-MODIFIED:20231121T112605Z
UID:48235-1700820900-1700829000@espace19.org
SUMMARY:Spectacle interactif "Les femmes portent la moitié du ciel"
DESCRIPTION:Le 25 novembre\, c’est la journée internationale de lutte contre les violences faites aux femmes ! \nA cette occasion\, Espace 19 Santé & Médiation et l’association Libres Terres des Femmes vous invitent à un spectacle interactif « Les femmes portent la moitié du ciel » gratuit et ouvert à toutes. \nProposé par la compagnie de théâtre Aux Arbres Citoyennes\, ce sera l’occasion d’aborder l’égalité femmes-hommes avec émotion et humour. \nRendez-vous le vendredi 24 novembre à 10h15 au Centre Paris Anim’ Curial (16 rue Colette Magny\, 19e). \nPour toutes questions\, contactez-nous au 09 81 64 84 58.
URL:https://espace19.org/event/spectacle-interactif-les-femmes-portent-la-moitie-du-ciel/
LOCATION:Centre Paris Anim Curial\, 16 rue Colette Magny\, Paris\, 75019\, France
CATEGORIES:Tous publics
ATTACH;FMTTYPE=image/jpeg:https://espace19.org/wp-content/uploads/2023/11/01-1-scaled.jpg
END:VEVENT
END:VCALENDAR