BEGIN:VCALENDAR
VERSION:2.0
PRODID:-//Espace 19 - ECPv6.8.3//NONSGML v1.0//EN
CALSCALE:GREGORIAN
METHOD:PUBLISH
X-ORIGINAL-URL:https://espace19.org
X-WR-CALDESC:Évènements pour Espace 19
REFRESH-INTERVAL;VALUE=DURATION:PT1H
X-Robots-Tag:noindex
X-PUBLISHED-TTL:PT1H
BEGIN:VTIMEZONE
TZID:Europe/Paris
BEGIN:DAYLIGHT
TZOFFSETFROM:+0100
TZOFFSETTO:+0200
TZNAME:CEST
DTSTART:20220327T010000
END:DAYLIGHT
BEGIN:STANDARD
TZOFFSETFROM:+0200
TZOFFSETTO:+0100
TZNAME:CET
DTSTART:20221030T010000
END:STANDARD
END:VTIMEZONE
BEGIN:VEVENT
DTSTART;TZID=Europe/Paris:20220113T100000
DTEND;TZID=Europe/Paris:20220113T120000
DTSTAMP:20260425T180459
CREATED:20211216T155123Z
LAST-MODIFIED:20211216T155123Z
UID:35472-1642068000-1642075200@espace19.org
SUMMARY:Atelier Les mots du numérique
DESCRIPTION:Cet atelier vous propose d’explorer et de débattre sur les notions du numérique. \nPar exemple\, Bluetooth veut dire « dent bleue » mais pourquoi est-ce qu’on utilise ce terme ? \nSi ça vous dit de se retrouver pour échanger sur tout ça\, contactez-nous au 01 88 40 52 65 pour vous inscrire à la prochaine rencontre. \n 
URL:https://espace19.org/event/atelier-les-mots-du-numerique/
LOCATION:Espace 19 Numérique\, 167 rue de Crimée\, Paris\, 75019\, France
ATTACH;FMTTYPE=image/jpeg:https://espace19.org/wp-content/uploads/2021/12/Photo-Espace-19-Numerique-1-scaled.jpg
END:VEVENT
BEGIN:VEVENT
DTSTART;TZID=Europe/Paris:20220127T100000
DTEND;TZID=Europe/Paris:20220127T120000
DTSTAMP:20260425T180459
CREATED:20211222T104355Z
LAST-MODIFIED:20211222T104355Z
UID:35589-1643277600-1643284800@espace19.org
SUMMARY:Ciné-débat sur le numérique
DESCRIPTION:Et c’est reparti pour les ciné-débats d’Espace 19 Numérique ! \nVenez découvrir un film ou un épisode de série culte sur les thématiques du numérique pour ensuite en discuter ensemble autour d’un café. \nAlors ça vous dit ?\nPour vous inscrire\, contactez l’équipe d’Espace 19 Numérique au 01 88 40 52 65. \n 
URL:https://espace19.org/event/cine-debat-sur-le-numerique/
LOCATION:Espace 19 Numérique\, 167 rue de Crimée\, Paris\, 75019\, France
ATTACH;FMTTYPE=image/jpeg:https://espace19.org/wp-content/uploads/2021/12/Photo-Espace-19-Numerique-1-scaled.jpg
END:VEVENT
END:VCALENDAR