BEGIN:VCALENDAR
VERSION:2.0
PRODID:-//Espace 19 - ECPv6.8.3//NONSGML v1.0//EN
CALSCALE:GREGORIAN
METHOD:PUBLISH
X-ORIGINAL-URL:https://espace19.org
X-WR-CALDESC:Évènements pour Espace 19
REFRESH-INTERVAL;VALUE=DURATION:PT1H
X-Robots-Tag:noindex
X-PUBLISHED-TTL:PT1H
BEGIN:VTIMEZONE
TZID:Europe/Paris
BEGIN:DAYLIGHT
TZOFFSETFROM:+0100
TZOFFSETTO:+0200
TZNAME:CEST
DTSTART:20220327T010000
END:DAYLIGHT
BEGIN:STANDARD
TZOFFSETFROM:+0200
TZOFFSETTO:+0100
TZNAME:CET
DTSTART:20221030T010000
END:STANDARD
END:VTIMEZONE
BEGIN:VEVENT
DTSTART;TZID=Europe/Paris:20220408T180000
DTEND;TZID=Europe/Paris:20220408T200000
DTSTAMP:20260425T151338
CREATED:20220407T094437Z
LAST-MODIFIED:20220407T094437Z
UID:37760-1649440800-1649448000@espace19.org
SUMMARY:L'Assemblée Générale d'Espace 19
DESCRIPTION:Tou.te.s nos adhérent.e.s sont invité.e.s à l’Assemblée Générale d’Espace 19 ! \nAu programme : la présentation du Bilan 2021\, des témoignages\, des ateliers de discussion en petits groupes\, votes et élections des administrateurs. \nLa soirée se clôturera autour d’un petit buffet. \nUn moment convivial et riche en échanges en perspective !
URL:https://espace19.org/event/lassemblee-generale-despace-19/
LOCATION:Collège Edgar Varèse\, 16 rue Adolphe Mille\, Paris\, 75019\, France
ATTACH;FMTTYPE=image/jpeg:https://espace19.org/wp-content/uploads/2022/04/AG-2020-site-agenda.jpg
END:VEVENT
BEGIN:VEVENT
DTSTART;TZID=Europe/Paris:20220421T173000
DTEND;TZID=Europe/Paris:20220421T190000
DTSTAMP:20260425T151338
CREATED:20220405T154111Z
LAST-MODIFIED:20220405T154111Z
UID:37680-1650562200-1650567600@espace19.org
SUMMARY:Vente de fruits\, légumes et produits secs locaux et de saison
DESCRIPTION:Venez acheter des produits locaux\, de saison et bons pour votre santé à prix justes ! \nPour commandez vos produits\, rendez-vous : \nLe 12 avril\n– De 17h à 18h à Espace 19 Ourcq (20 rue Léon Giraud\, Paris 19e) \nOU\nLe 13 avril\n– De 10h à 11h à Espace 19 Ourcq (19 rue des Ardennes\, Paris 19e)\n– De 17h30 à 18h30 à Espace 19 Riquet (53 rue Riquet\, Paris 19e)\n– De 09h à 17h par téléphone au 07 68 38 24 06 \nOU\nLe 14 avril\n– De 14h à 15h à Espace 19 Cambrai (28 rue Bernard Tétu\, Paris 19e) \nVous pourrez ensuite récupérer votre commande le jeudi 21 avril entre 17h30 et 19h à Espace 19 Riquet. \nCette vente est proposée dans le cadre du projet de coopérative alimentaire\, porté par le collectif d’habitants du 19e O’Bons Légumes. Pour toute question\, n’hésitez pas à contacter l’équipe au 07 68 38 24 06.
URL:https://espace19.org/event/vente-de-fruits-legumes-et-produits-secs-locaux-et-de-saison/
LOCATION:Espace 19 Riquet\, 53 rue Riquet\, Paris\, 75019\, France
ATTACH;FMTTYPE=image/jpeg:https://espace19.org/wp-content/uploads/2022/04/Photo-B-1.jpeg
END:VEVENT
BEGIN:VEVENT
DTSTART;TZID=Europe/Paris:20220425T153000
DTEND;TZID=Europe/Paris:20220425T173000
DTSTAMP:20260425T151338
CREATED:20220425T130504Z
LAST-MODIFIED:20220425T130421Z
UID:38351-1650900600-1650907800@espace19.org
SUMMARY:[Séance 1] Atelier dessin et destins
DESCRIPTION:Franka vous propose de dessiner votre avenir à travers une activité amusante qui déclenche la créativité et met en jeu : vision\, mémoire\, concentration et langage ! Nul besoin de savoir dessiner\, cet atelier vous fera faire des merveilles tout en vous apaisant. \nL’atelier se déroulera en 2 séances : le 25 et le 26 avril. \nPrêts à être surpris de vos réalisations ? Contactez Espace 19 Riquet au 01 53 26 89 00 et inscrivez-vous auprès de Maéva ou Marion.
URL:https://espace19.org/event/atelier-dessin-et-destins/
LOCATION:Espace 19 Riquet\, 53 rue Riquet\, Paris\, 75019\, France
CATEGORIES:Tous publics
ATTACH;FMTTYPE=image/jpeg:https://espace19.org/wp-content/uploads/2022/04/Atelier-dessin-Franka-photo2.jpg
END:VEVENT
BEGIN:VEVENT
DTSTART;TZID=Europe/Paris:20220426T153000
DTEND;TZID=Europe/Paris:20220426T173000
DTSTAMP:20260425T151338
CREATED:20220425T130530Z
LAST-MODIFIED:20220425T130530Z
UID:38359-1650987000-1650994200@espace19.org
SUMMARY:[Séance 2] Atelier dessin et destins
DESCRIPTION:Franka vous propose de dessiner votre avenir à travers une activité amusante qui déclenche la créativité et met en jeu : vision\, mémoire\, concentration et langage ! Nul besoin de savoir dessiner\, cet atelier vous fera faire des merveilles tout en vous apaisant. \nL’atelier se déroulera en 2 séances : le 25 et le 26 avril. \nPrêts à être surpris de vos réalisations ? Contactez Espace 19 Riquet au 01 53 26 89 00 et inscrivez-vous auprès de Maéva ou Marion.
URL:https://espace19.org/event/seance-2-atelier-dessin-et-destins/
LOCATION:Espace 19 Riquet\, 53 rue Riquet\, Paris\, 75019\, France
ATTACH;FMTTYPE=image/jpeg:https://espace19.org/wp-content/uploads/2022/04/Atelier-dessin-Franka-photo2.jpg
END:VEVENT
BEGIN:VEVENT
DTSTART;TZID=Europe/Paris:20220427T153000
DTEND;TZID=Europe/Paris:20220427T173000
DTSTAMP:20260425T151338
CREATED:20220425T130920Z
LAST-MODIFIED:20220426T104330Z
UID:38361-1651073400-1651080600@espace19.org
SUMMARY:[Séance 1] Atelier collage artistique
DESCRIPTION:Venez découvrir le collage artistique avec Najet. Pour celles et ceux qui aiment les formes et les couleurs et qui sont curieux de voir ce que l’on peut créer avec du papier de soie\, c’est un atelier à ne pas rater ! \nInscrivez-vous auprès de Maéva et Marion en contactant Espace 19 Riquet (01 53 26 89 00). \n 
URL:https://espace19.org/event/atelier-collage-artistique/
LOCATION:Espace 19 Riquet\, 53 rue Riquet\, Paris\, 75019\, France
CATEGORIES:Tous publics
ATTACH;FMTTYPE=image/jpeg:https://espace19.org/wp-content/uploads/2022/04/Atelier-Najet-dessin-scaled.jpg
END:VEVENT
BEGIN:VEVENT
DTSTART;TZID=Europe/Paris:20220428T153000
DTEND;TZID=Europe/Paris:20220428T173000
DTSTAMP:20260425T151338
CREATED:20220425T125500Z
LAST-MODIFIED:20220425T125500Z
UID:38347-1651159800-1651167000@espace19.org
SUMMARY:Atelier peinture phosphorescente
DESCRIPTION:Marion d’Espace 19 Riquet vous propose de réaliser l’œuvre mythique : La Nuit étoilée de Van Gogh avec de la peinture phosphorescente. Ressortez avec des étoiles plein les yeux et un dessin pour éclairer votre chambre la nuit ! \nAlors ça vous dit ?\nContactez Espace 19 Riquet au 01 53 26 89 00 et inscrivez-vous auprès de Maéva ou Marion.
URL:https://espace19.org/event/atelier-peinture-phosphorescente/
LOCATION:Espace 19 Riquet\, 53 rue Riquet\, Paris\, 75019\, France
CATEGORIES:Tous publics
ATTACH;FMTTYPE=image/jpeg:https://espace19.org/wp-content/uploads/2022/04/la-nuit-etoilee.jpg
END:VEVENT
BEGIN:VEVENT
DTSTART;TZID=Europe/Paris:20220429T143000
DTEND;TZID=Europe/Paris:20220429T163000
DTSTAMP:20260425T151338
CREATED:20220425T131031Z
LAST-MODIFIED:20220427T100801Z
UID:38365-1651242600-1651249800@espace19.org
SUMMARY:[Séance 2] Atelier collage artistique
DESCRIPTION:Venez découvrir le collage artistique avec Najet. Pour celles et ceux qui aiment les formes et les couleurs et qui sont curieux de voir ce que l’on peut créer avec du papier de soie\, c’est un atelier à ne pas rater ! \nInscrivez-vous auprès de Maéva et Marion en contactant Espace 19 Riquet (01 53 26 89 00).
URL:https://espace19.org/event/atelier-collage-artistique-2/
LOCATION:Espace 19 Riquet\, 53 rue Riquet\, Paris\, 75019\, France
ATTACH;FMTTYPE=image/jpeg:https://espace19.org/wp-content/uploads/2022/04/Atelier-Najet-dessin-scaled.jpg
END:VEVENT
BEGIN:VEVENT
DTSTART;TZID=Europe/Paris:20220429T163000
DTEND;TZID=Europe/Paris:20220429T180000
DTSTAMP:20260425T151338
CREATED:20220405T144914Z
LAST-MODIFIED:20220405T144914Z
UID:37683-1651249800-1651255200@espace19.org
SUMMARY:Atelier Théâtre
DESCRIPTION:Espace 19 Riquet vous invite à un atelier de théâtre d’1h30 pour vous initier au jeu ! \nL’inscription est obligatoire auprès de Marion au 01 53 26 89 00. \nUn bon moment créatif et convivial en perspective !
URL:https://espace19.org/event/atelier-theatre/
LOCATION:Espace 19 Riquet\, 53 rue Riquet\, Paris\, 75019\, France
ATTACH;FMTTYPE=image/jpeg:https://espace19.org/wp-content/uploads/2022/04/2insta-Clo-Afis-1-scaled.jpg
END:VEVENT
BEGIN:VEVENT
DTSTART;TZID=Europe/Paris:20220429T181500
DTEND;TZID=Europe/Paris:20220429T190000
DTSTAMP:20260425T151338
CREATED:20220405T150442Z
LAST-MODIFIED:20220405T150442Z
UID:37688-1651256100-1651258800@espace19.org
SUMMARY:Projection de courts métrages
DESCRIPTION:Venez découvrir à Espace 19 Riquet 3 courts métrages réalisés avec des apprenants des cours de français du centre\, en partenariat avec l’association FLA et Hip&Hop. \nUn très beau projet qui met en scène et célèbre nos différences culturelles ! \nOn vous attend nombreux pour une soirée de projection conviviale. \n 
URL:https://espace19.org/event/projection-de-courts-metrages/
LOCATION:Espace 19 Riquet\, 53 rue Riquet\, Paris\, 75019\, France
CATEGORIES:Tous publics
ATTACH;FMTTYPE=image/png:https://espace19.org/wp-content/uploads/2022/04/tournage-1.png
END:VEVENT
END:VCALENDAR